{"text_format":"1","workbook":"xlsx","n_sheets":2,"sheets":["endg.Anm","Übergabe"],"not_rendered":{"charts":0,"images":0,"macros":1,"external_links":0,"defined_names":1,"comments":0,"pivot_tables":0},"unopened":[],"bounds":{"document_bytes":16777216,"sheet_cells":100000,"rows_first":2000,"rows_last":500,"rows_between":2000,"halvings":0,"cell_chars":16384,"cell_head_chars":4096},"cells_cut":0,"cells_raw":0,"read":"whole","date_system":"1900"}

{"sheet":"endg.Anm","index":0,"n_rows":108,"n_cols":16,"rows_kept":108,"cut":false,"hidden":false,"merged":[[4,2,4,3],[4,6,4,9],[4,11,7,13]]}
[null,null,null,null,null,null,null,null,null,null,null,"2018-06-30"]
["Anmeldung zum Kreiszeltlager 2018",null,null,null,null,null,null,null,null,null,null,null,"j","x",null,"x"]
["vom 30.06.2018 - 07.07.2018 in Rosengarten",null,null,null,null,null,null,null,null,null,null,null,"m"]
[null,null,null,null,null,null,null,null,null,null,null,null,"b"]
["der Jugendfeuerwehr:",null,null,null,null,"Gemeinde:",null,null,null,null,null,"Hinweis:\nDurch drücken des Button \"Speichern unter\"\nwird die Datei benannt und gespeichert.\nDanach kann sie versendet werden."]
[]
[null,"Teilnehmer"]
["Pos.","Name","Vorname","Geburts-\ndatum\nTT.MM.JJJJ","Alter am 30.06.2018","u14\nmöglich","Junge\nMädchen\nBetreuer","LSP-\nAusb.\n= X","Vege- tarier  = X","Bemerkung"]
[1,null,null,null,{"$f":"IF(D9=\"\",\"\",(DATEDIF(D9,$L$1,\"y\")))","v":""},{"$f":"IF(E9=0,\"\",IF(E9<14,\"x\",\" \"))","v":" "}]
[2,null,null,null,{"$f":"IF(D10=\"\",\"\",(DATEDIF(D10,$L$1,\"y\")))","v":""},{"$f":"IF(E10=0,\"\",IF(E10<14,\"x\",\" \"))","v":" "}]
[3,null,null,null,""," "]
[4,null,null,null,""," "]
[5,null,null,null,""," "]
[6,null,null,null,""," "]
[7,null,null,null,""," "]
[8,null,null,null,""," "]
[9,null,null,null,""," "]
[10,null,null,null,""," "]
[11,null,null,null,""," "]
[12,null,null,null,""," "]
[13,null,null,null,""," "]
[14,null,null,null,""," "]
[15,null,null,null,""," "]
[16,null,null,null,""," "]
[17,null,null,null,""," "]
[18,null,null,null,""," "]
[19,null,null,null,""," "]
[20,null,null,null,""," "]
[21,null,null,null,""," "]
[22,null,null,null,""," "]
[23,null,null,null,""," "]
[24,null,null,null,""," "]
[25,null,null,null,""," "]
[26,null,null,null,""," "]
[27,null,null,null,""," "]
[28,null,null,null,""," "]
[29,null,null,null,""," "]
[29,null,null,null,""," "]
[30,null,null,null,""," "]
[31,null,null,null,""," "]
[32,null,null,null,""," "]
[33,null,null,null,""," "]
[34,null,null,null,""," "]
[35,null,null,null,""," "]
[36,null,null,null,""," "]
[37,null,null,null,""," "]
[38,null,null,null,""," "]
[39,null,null,null,""," "]
[40,null,null,null,""," "]
[41,null,null,null,""," "]
[42,null,null,null,""," "]
[43,null,null,null,""," "]
[44,null,null,null,""," "]
[45,null,null,null,""," "]
[46,null,null,null,""," "]
[47,null,null,null,""," "]
[48,null,null,null,""," "]
[49,null,null,null,""," "]
[50,null,null,null,""," "]
[51,null,null,null,""," "]
[52,null,null,null,""," "]
[53,null,null,null,""," "]
[54,null,null,null,""," "]
[55,null,null,null,""," "]
[56,null,null,null,""," "]
[57,null,null,null,""," "]
[58,null,null,null,""," "]
[59,null,null,null,""," "]
[60,null,null,null,""," "]
[61,null,null,null,""," "]
[62,null,null,null,""," "]
[63,null,null,null,""," "]
[64,null,null,null,""," "]
[65,null,null,null,{"$f":"IF(D74=\"\",\"\",(DATEDIF(D74,$L$1,\"y\")))","v":""},{"$f":"IF(E74=0,\"\",IF(E74<14,\"x\",\" \"))","v":" "}]
[66,null,null,null,""," "]
[67,null,null,null,""," "]
[68,null,null,null,""," "]
[69,null,null,null,""," "]
[70,null,null,null,""," "]
[71,null,null,null,""," "]
[72,null,null,null,""," "]
[73,null,null,null,""," "]
[74,null,null,null,""," "]
[75,null,null,null,""," "]
[76,null,null,null,""," "]
[77,null,null,null,""," "]
[78,null,null,null,""," "]
[79,null,null,null,""," "]
[80,null,null,null,""," "]
[81,null,null,null,""," "]
[82,null,null,null,""," "]
[83,null,null,null,""," "]
[84,null,null,null,""," "]
[85,null,null,null,""," "]
[86,null,null,null,""," "]
[87,null,null,null,""," "]
[88,null,null,null,""," "]
[89,null,null,null,""," "]
[90,null,null,null,""," "]
[91,null,null,null,""," "]
[92,null,null,null,""," "]
[93,null,null,null,""," "]
[94,null,null,null,""," "]
[95,null,null,null,""," "]
[96,null,null,null,""," "]
[97,null,null,null,""," "]
[98,null,null,null,""," "]
[99,null,null,null,""," "]

{"sheet":"Übergabe","index":1,"n_rows":150,"n_cols":11,"rows_kept":150,"cut":false,"hidden":true,"merged":[]}
["Ortsfeuerwehr","Gemeinde","Name_Nach","Name_Vor","Geburtdatum","Alter","U14","J/M/B","LSP","Vegi","Bemerkung"]
[{"$f":"IF(endg.Anm!B9=\"\",\"\",endg.Anm!$G$5)","v":""},{"$f":"IF(endg.Anm!B9=\"\",\"\",endg.Anm!$C$5)","v":""},{"$f":"IF(endg.Anm!B9=\"\",\"\",endg.Anm!B9)","v":""},{"$f":"IF(endg.Anm!C9=\"\",\"\",endg.Anm!C9)","v":""},{"$f":"IF(endg.Anm!D9=\"\",\"\",endg.Anm!D9)","v":""},{"$f":"IF(endg.Anm!E9=\"\",\"\",endg.Anm!E9)","v":""},{"$f":"IF(endg.Anm!F9=\"\",\"\",endg.Anm!F9)","v":" "},{"$f":"IF(endg.Anm!G9=\"\",\"\",endg.Anm!G9)","v":""},{"$f":"IF(H2=\"B\",\"\",IF(endg.Anm!H9=\"\",\"\",endg.Anm!H9))","v":""},{"$f":"IF(endg.Anm!I9=\"\",\"\",endg.Anm!I9)","v":""},{"$f":"IF(endg.Anm!J9=\"\",\"\",endg.Anm!J9)","v":""}]
[{"$f":"IF(endg.Anm!B10=\"\",\"\",endg.Anm!$G$5)","v":""},{"$f":"IF(endg.Anm!B10=\"\",\"\",endg.Anm!$C$5)","v":""},{"$f":"IF(endg.Anm!B10=\"\",\"\",endg.Anm!B10)","v":""},{"$f":"IF(endg.Anm!C10=\"\",\"\",endg.Anm!C10)","v":""},{"$f":"IF(endg.Anm!D10=\"\",\"\",endg.Anm!D10)","v":""},{"$f":"IF(endg.Anm!E10=\"\",\"\",endg.Anm!E10)","v":""},{"$f":"IF(endg.Anm!F10=\"\",\"\",endg.Anm!F10)","v":" "},{"$f":"IF(endg.Anm!G10=\"\",\"\",endg.Anm!G10)","v":""},{"$f":"IF(H3=\"B\",\"\",IF(endg.Anm!H10=\"\",\"\",endg.Anm!H10))","v":""},{"$f":"IF(endg.Anm!I10=\"\",\"\",endg.Anm!I10)","v":""},{"$f":"IF(endg.Anm!J10=\"\",\"\",endg.Anm!J10)","v":""}]
[{"$f":"IF(endg.Anm!B11=\"\",\"\",endg.Anm!$G$5)","v":""},{"$f":"IF(endg.Anm!B11=\"\",\"\",endg.Anm!$C$5)","v":""},{"$f":"IF(endg.Anm!B11=\"\",\"\",endg.Anm!B11)","v":""},{"$f":"IF(endg.Anm!C11=\"\",\"\",endg.Anm!C11)","v":""},{"$f":"IF(endg.Anm!D11=\"\",\"\",endg.Anm!D11)","v":""},{"$f":"IF(endg.Anm!E11=\"\",\"\",endg.Anm!E11)","v":""},{"$f":"IF(endg.Anm!F11=\"\",\"\",endg.Anm!F11)","v":" "},{"$f":"IF(endg.Anm!G11=\"\",\"\",endg.Anm!G11)","v":""},{"$f":"IF(H4=\"B\",\"\",IF(endg.Anm!H11=\"\",\"\",endg.Anm!H11))","v":""},{"$f":"IF(endg.Anm!I11=\"\",\"\",endg.Anm!I11)","v":""},{"$f":"IF(endg.Anm!J11=\"\",\"\",endg.Anm!J11)","v":""}]
[{"$f":"IF(endg.Anm!B12=\"\",\"\",endg.Anm!$G$5)","v":""},{"$f":"IF(endg.Anm!B12=\"\",\"\",endg.Anm!$C$5)","v":""},{"$f":"IF(endg.Anm!B12=\"\",\"\",endg.Anm!B12)","v":""},{"$f":"IF(endg.Anm!C12=\"\",\"\",endg.Anm!C12)","v":""},{"$f":"IF(endg.Anm!D12=\"\",\"\",endg.Anm!D12)","v":""},{"$f":"IF(endg.Anm!E12=\"\",\"\",endg.Anm!E12)","v":""},{"$f":"IF(endg.Anm!F12=\"\",\"\",endg.Anm!F12)","v":" "},{"$f":"IF(endg.Anm!G12=\"\",\"\",endg.Anm!G12)","v":""},{"$f":"IF(H5=\"B\",\"\",IF(endg.Anm!H12=\"\",\"\",endg.Anm!H12))","v":""},{"$f":"IF(endg.Anm!I12=\"\",\"\",endg.Anm!I12)","v":""},{"$f":"IF(endg.Anm!J12=\"\",\"\",endg.Anm!J12)","v":""}]
[{"$f":"IF(endg.Anm!B13=\"\",\"\",endg.Anm!$G$5)","v":""},{"$f":"IF(endg.Anm!B13=\"\",\"\",endg.Anm!$C$5)","v":""},{"$f":"IF(endg.Anm!B13=\"\",\"\",endg.Anm!B13)","v":""},{"$f":"IF(endg.Anm!C13=\"\",\"\",endg.Anm!C13)","v":""},{"$f":"IF(endg.Anm!D13=\"\",\"\",endg.Anm!D13)","v":""},{"$f":"IF(endg.Anm!E13=\"\",\"\",endg.Anm!E13)","v":""},{"$f":"IF(endg.Anm!F13=\"\",\"\",endg.Anm!F13)","v":" "},{"$f":"IF(endg.Anm!G13=\"\",\"\",endg.Anm!G13)","v":""},{"$f":"IF(H6=\"B\",\"\",IF(endg.Anm!H13=\"\",\"\",endg.Anm!H13))","v":""},{"$f":"IF(endg.Anm!I13=\"\",\"\",endg.Anm!I13)","v":""},{"$f":"IF(endg.Anm!J13=\"\",\"\",endg.Anm!J13)","v":""}]
[{"$f":"IF(endg.Anm!B14=\"\",\"\",endg.Anm!$G$5)","v":""},{"$f":"IF(endg.Anm!B14=\"\",\"\",endg.Anm!$C$5)","v":""},{"$f":"IF(endg.Anm!B14=\"\",\"\",endg.Anm!B14)","v":""},{"$f":"IF(endg.Anm!C14=\"\",\"\",endg.Anm!C14)","v":""},{"$f":"IF(endg.Anm!D14=\"\",\"\",endg.Anm!D14)","v":""},{"$f":"IF(endg.Anm!E14=\"\",\"\",endg.Anm!E14)","v":""},{"$f":"IF(endg.Anm!F14=\"\",\"\",endg.Anm!F14)","v":" "},{"$f":"IF(endg.Anm!G14=\"\",\"\",endg.Anm!G14)","v":""},{"$f":"IF(H7=\"B\",\"\",IF(endg.Anm!H14=\"\",\"\",endg.Anm!H14))","v":""},{"$f":"IF(endg.Anm!I14=\"\",\"\",endg.Anm!I14)","v":""},{"$f":"IF(endg.Anm!J14=\"\",\"\",endg.Anm!J14)","v":""}]
[{"$f":"IF(endg.Anm!B15=\"\",\"\",endg.Anm!$G$5)","v":""},{"$f":"IF(endg.Anm!B15=\"\",\"\",endg.Anm!$C$5)","v":""},{"$f":"IF(endg.Anm!B15=\"\",\"\",endg.Anm!B15)","v":""},{"$f":"IF(endg.Anm!C15=\"\",\"\",endg.Anm!C15)","v":""},{"$f":"IF(endg.Anm!D15=\"\",\"\",endg.Anm!D15)","v":""},{"$f":"IF(endg.Anm!E15=\"\",\"\",endg.Anm!E15)","v":""},{"$f":"IF(endg.Anm!F15=\"\",\"\",endg.Anm!F15)","v":" "},{"$f":"IF(endg.Anm!G15=\"\",\"\",endg.Anm!G15)","v":""},{"$f":"IF(H8=\"B\",\"\",IF(endg.Anm!H15=\"\",\"\",endg.Anm!H15))","v":""},{"$f":"IF(endg.Anm!I15=\"\",\"\",endg.Anm!I15)","v":""},{"$f":"IF(endg.Anm!J15=\"\",\"\",endg.Anm!J15)","v":""}]
[{"$f":"IF(endg.Anm!B16=\"\",\"\",endg.Anm!$G$5)","v":""},{"$f":"IF(endg.Anm!B16=\"\",\"\",endg.Anm!$C$5)","v":""},{"$f":"IF(endg.Anm!B16=\"\",\"\",endg.Anm!B16)","v":""},{"$f":"IF(endg.Anm!C16=\"\",\"\",endg.Anm!C16)","v":""},{"$f":"IF(endg.Anm!D16=\"\",\"\",endg.Anm!D16)","v":""},{"$f":"IF(endg.Anm!E16=\"\",\"\",endg.Anm!E16)","v":""},{"$f":"IF(endg.Anm!F16=\"\",\"\",endg.Anm!F16)","v":" "},{"$f":"IF(endg.Anm!G16=\"\",\"\",endg.Anm!G16)","v":""},{"$f":"IF(H9=\"B\",\"\",IF(endg.Anm!H16=\"\",\"\",endg.Anm!H16))","v":""},{"$f":"IF(endg.Anm!I16=\"\",\"\",endg.Anm!I16)","v":""},{"$f":"IF(endg.Anm!J16=\"\",\"\",endg.Anm!J16)","v":""}]
[{"$f":"IF(endg.Anm!B17=\"\",\"\",endg.Anm!$G$5)","v":""},{"$f":"IF(endg.Anm!B17=\"\",\"\",endg.Anm!$C$5)","v":""},{"$f":"IF(endg.Anm!B17=\"\",\"\",endg.Anm!B17)","v":""},{"$f":"IF(endg.Anm!C17=\"\",\"\",endg.Anm!C17)","v":""},{"$f":"IF(endg.Anm!D17=\"\",\"\",endg.Anm!D17)","v":""},{"$f":"IF(endg.Anm!E17=\"\",\"\",endg.Anm!E17)","v":""},{"$f":"IF(endg.Anm!F17=\"\",\"\",endg.Anm!F17)","v":" "},{"$f":"IF(endg.Anm!G17=\"\",\"\",endg.Anm!G17)","v":""},{"$f":"IF(H10=\"B\",\"\",IF(endg.Anm!H17=\"\",\"\",endg.Anm!H17))","v":""},{"$f":"IF(endg.Anm!I17=\"\",\"\",endg.Anm!I17)","v":""},{"$f":"IF(endg.Anm!J17=\"\",\"\",endg.Anm!J17)","v":""}]
[{"$f":"IF(endg.Anm!B18=\"\",\"\",endg.Anm!$G$5)","v":""},{"$f":"IF(endg.Anm!B18=\"\",\"\",endg.Anm!$C$5)","v":""},{"$f":"IF(endg.Anm!B18=\"\",\"\",endg.Anm!B18)","v":""},{"$f":"IF(endg.Anm!C18=\"\",\"\",endg.Anm!C18)","v":""},{"$f":"IF(endg.Anm!D18=\"\",\"\",endg.Anm!D18)","v":""},{"$f":"IF(endg.Anm!E18=\"\",\"\",endg.Anm!E18)","v":""},{"$f":"IF(endg.Anm!F18=\"\",\"\",endg.Anm!F18)","v":" "},{"$f":"IF(endg.Anm!G18=\"\",\"\",endg.Anm!G18)","v":""},{"$f":"IF(H11=\"B\",\"\",IF(endg.Anm!H18=\"\",\"\",endg.Anm!H18))","v":""},{"$f":"IF(endg.Anm!I18=\"\",\"\",endg.Anm!I18)","v":""},{"$f":"IF(endg.Anm!J18=\"\",\"\",endg.Anm!J18)","v":""}]
[{"$f":"IF(endg.Anm!B19=\"\",\"\",endg.Anm!$G$5)","v":""},{"$f":"IF(endg.Anm!B19=\"\",\"\",endg.Anm!$C$5)","v":""},{"$f":"IF(endg.Anm!B19=\"\",\"\",endg.Anm!B19)","v":""},{"$f":"IF(endg.Anm!C19=\"\",\"\",endg.Anm!C19)","v":""},{"$f":"IF(endg.Anm!D19=\"\",\"\",endg.Anm!D19)","v":""},{"$f":"IF(endg.Anm!E19=\"\",\"\",endg.Anm!E19)","v":""},{"$f":"IF(endg.Anm!F19=\"\",\"\",endg.Anm!F19)","v":" "},{"$f":"IF(endg.Anm!G19=\"\",\"\",endg.Anm!G19)","v":""},{"$f":"IF(H12=\"B\",\"\",IF(endg.Anm!H19=\"\",\"\",endg.Anm!H19))","v":""},{"$f":"IF(endg.Anm!I19=\"\",\"\",endg.Anm!I19)","v":""},{"$f":"IF(endg.Anm!J19=\"\",\"\",endg.Anm!J19)","v":""}]
[{"$f":"IF(endg.Anm!B20=\"\",\"\",endg.Anm!$G$5)","v":""},{"$f":"IF(endg.Anm!B20=\"\",\"\",endg.Anm!$C$5)","v":""},{"$f":"IF(endg.Anm!B20=\"\",\"\",endg.Anm!B20)","v":""},{"$f":"IF(endg.Anm!C20=\"\",\"\",endg.Anm!C20)","v":""},{"$f":"IF(endg.Anm!D20=\"\",\"\",endg.Anm!D20)","v":""},{"$f":"IF(endg.Anm!E20=\"\",\"\",endg.Anm!E20)","v":""},{"$f":"IF(endg.Anm!F20=\"\",\"\",endg.Anm!F20)","v":" "},{"$f":"IF(endg.Anm!G20=\"\",\"\",endg.Anm!G20)","v":""},{"$f":"IF(H13=\"B\",\"\",IF(endg.Anm!H20=\"\",\"\",endg.Anm!H20))","v":""},{"$f":"IF(endg.Anm!I20=\"\",\"\",endg.Anm!I20)","v":""},{"$f":"IF(endg.Anm!J20=\"\",\"\",endg.Anm!J20)","v":""}]
[{"$f":"IF(endg.Anm!B21=\"\",\"\",endg.Anm!$G$5)","v":""},{"$f":"IF(endg.Anm!B21=\"\",\"\",endg.Anm!$C$5)","v":""},{"$f":"IF(endg.Anm!B21=\"\",\"\",endg.Anm!B21)","v":""},{"$f":"IF(endg.Anm!C21=\"\",\"\",endg.Anm!C21)","v":""},{"$f":"IF(endg.Anm!D21=\"\",\"\",endg.Anm!D21)","v":""},{"$f":"IF(endg.Anm!E21=\"\",\"\",endg.Anm!E21)","v":""},{"$f":"IF(endg.Anm!F21=\"\",\"\",endg.Anm!F21)","v":" "},{"$f":"IF(endg.Anm!G21=\"\",\"\",endg.Anm!G21)","v":""},{"$f":"IF(H14=\"B\",\"\",IF(endg.Anm!H21=\"\",\"\",endg.Anm!H21))","v":""},{"$f":"IF(endg.Anm!I21=\"\",\"\",endg.Anm!I21)","v":""},{"$f":"IF(endg.Anm!J21=\"\",\"\",endg.Anm!J21)","v":""}]
[{"$f":"IF(endg.Anm!B22=\"\",\"\",endg.Anm!$G$5)","v":""},{"$f":"IF(endg.Anm!B22=\"\",\"\",endg.Anm!$C$5)","v":""},{"$f":"IF(endg.Anm!B22=\"\",\"\",endg.Anm!B22)","v":""},{"$f":"IF(endg.Anm!C22=\"\",\"\",endg.Anm!C22)","v":""},{"$f":"IF(endg.Anm!D22=\"\",\"\",endg.Anm!D22)","v":""},{"$f":"IF(endg.Anm!E22=\"\",\"\",endg.Anm!E22)","v":""},{"$f":"IF(endg.Anm!F22=\"\",\"\",endg.Anm!F22)","v":" "},{"$f":"IF(endg.Anm!G22=\"\",\"\",endg.Anm!G22)","v":""},{"$f":"IF(H15=\"B\",\"\",IF(endg.Anm!H22=\"\",\"\",endg.Anm!H22))","v":""},{"$f":"IF(endg.Anm!I22=\"\",\"\",endg.Anm!I22)","v":""},{"$f":"IF(endg.Anm!J22=\"\",\"\",endg.Anm!J22)","v":""}]
[{"$f":"IF(endg.Anm!B23=\"\",\"\",endg.Anm!$G$5)","v":""},{"$f":"IF(endg.Anm!B23=\"\",\"\",endg.Anm!$C$5)","v":""},{"$f":"IF(endg.Anm!B23=\"\",\"\",endg.Anm!B23)","v":""},{"$f":"IF(endg.Anm!C23=\"\",\"\",endg.Anm!C23)","v":""},{"$f":"IF(endg.Anm!D23=\"\",\"\",endg.Anm!D23)","v":""},{"$f":"IF(endg.Anm!E23=\"\",\"\",endg.Anm!E23)","v":""},{"$f":"IF(endg.Anm!F23=\"\",\"\",endg.Anm!F23)","v":" "},{"$f":"IF(endg.Anm!G23=\"\",\"\",endg.Anm!G23)","v":""},{"$f":"IF(H16=\"B\",\"\",IF(endg.Anm!H23=\"\",\"\",endg.Anm!H23))","v":""},{"$f":"IF(endg.Anm!I23=\"\",\"\",endg.Anm!I23)","v":""},{"$f":"IF(endg.Anm!J23=\"\",\"\",endg.Anm!J23)","v":""}]
[{"$f":"IF(endg.Anm!B24=\"\",\"\",endg.Anm!$G$5)","v":""},{"$f":"IF(endg.Anm!B24=\"\",\"\",endg.Anm!$C$5)","v":""},{"$f":"IF(endg.Anm!B24=\"\",\"\",endg.Anm!B24)","v":""},{"$f":"IF(endg.Anm!C24=\"\",\"\",endg.Anm!C24)","v":""},{"$f":"IF(endg.Anm!D24=\"\",\"\",endg.Anm!D24)","v":""},{"$f":"IF(endg.Anm!E24=\"\",\"\",endg.Anm!E24)","v":""},{"$f":"IF(endg.Anm!F24=\"\",\"\",endg.Anm!F24)","v":" "},{"$f":"IF(endg.Anm!G24=\"\",\"\",endg.Anm!G24)","v":""},{"$f":"IF(H17=\"B\",\"\",IF(endg.Anm!H24=\"\",\"\",endg.Anm!H24))","v":""},{"$f":"IF(endg.Anm!I24=\"\",\"\",endg.Anm!I24)","v":""},{"$f":"IF(endg.Anm!J24=\"\",\"\",endg.Anm!J24)","v":""}]
[{"$f":"IF(endg.Anm!B25=\"\",\"\",endg.Anm!$G$5)","v":""},{"$f":"IF(endg.Anm!B25=\"\",\"\",endg.Anm!$C$5)","v":""},{"$f":"IF(endg.Anm!B25=\"\",\"\",endg.Anm!B25)","v":""},{"$f":"IF(endg.Anm!C25=\"\",\"\",endg.Anm!C25)","v":""},{"$f":"IF(endg.Anm!D25=\"\",\"\",endg.Anm!D25)","v":""},{"$f":"IF(endg.Anm!E25=\"\",\"\",endg.Anm!E25)","v":""},{"$f":"IF(endg.Anm!F25=\"\",\"\",endg.Anm!F25)","v":" "},{"$f":"IF(endg.Anm!G25=\"\",\"\",endg.Anm!G25)","v":""},{"$f":"IF(H18=\"B\",\"\",IF(endg.Anm!H25=\"\",\"\",endg.Anm!H25))","v":""},{"$f":"IF(endg.Anm!I25=\"\",\"\",endg.Anm!I25)","v":""},{"$f":"IF(endg.Anm!J25=\"\",\"\",endg.Anm!J25)","v":""}]
[{"$f":"IF(endg.Anm!B26=\"\",\"\",endg.Anm!$G$5)","v":""},{"$f":"IF(endg.Anm!B26=\"\",\"\",endg.Anm!$C$5)","v":""},{"$f":"IF(endg.Anm!B26=\"\",\"\",endg.Anm!B26)","v":""},{"$f":"IF(endg.Anm!C26=\"\",\"\",endg.Anm!C26)","v":""},{"$f":"IF(endg.Anm!D26=\"\",\"\",endg.Anm!D26)","v":""},{"$f":"IF(endg.Anm!E26=\"\",\"\",endg.Anm!E26)","v":""},{"$f":"IF(endg.Anm!F26=\"\",\"\",endg.Anm!F26)","v":" "},{"$f":"IF(endg.Anm!G26=\"\",\"\",endg.Anm!G26)","v":""},{"$f":"IF(H19=\"B\",\"\",IF(endg.Anm!H26=\"\",\"\",endg.Anm!H26))","v":""},{"$f":"IF(endg.Anm!I26=\"\",\"\",endg.Anm!I26)","v":""},{"$f":"IF(endg.Anm!J26=\"\",\"\",endg.Anm!J26)","v":""}]
[{"$f":"IF(endg.Anm!B27=\"\",\"\",endg.Anm!$G$5)","v":""},{"$f":"IF(endg.Anm!B27=\"\",\"\",endg.Anm!$C$5)","v":""},{"$f":"IF(endg.Anm!B27=\"\",\"\",endg.Anm!B27)","v":""},{"$f":"IF(endg.Anm!C27=\"\",\"\",endg.Anm!C27)","v":""},{"$f":"IF(endg.Anm!D27=\"\",\"\",endg.Anm!D27)","v":""},{"$f":"IF(endg.Anm!E27=\"\",\"\",endg.Anm!E27)","v":""},{"$f":"IF(endg.Anm!F27=\"\",\"\",endg.Anm!F27)","v":" "},{"$f":"IF(endg.Anm!G27=\"\",\"\",endg.Anm!G27)","v":""},{"$f":"IF(H20=\"B\",\"\",IF(endg.Anm!H27=\"\",\"\",endg.Anm!H27))","v":""},{"$f":"IF(endg.Anm!I27=\"\",\"\",endg.Anm!I27)","v":""},{"$f":"IF(endg.Anm!J27=\"\",\"\",endg.Anm!J27)","v":""}]
[{"$f":"IF(endg.Anm!B28=\"\",\"\",endg.Anm!$G$5)","v":""},{"$f":"IF(endg.Anm!B28=\"\",\"\",endg.Anm!$C$5)","v":""},{"$f":"IF(endg.Anm!B28=\"\",\"\",endg.Anm!B28)","v":""},{"$f":"IF(endg.Anm!C28=\"\",\"\",endg.Anm!C28)","v":""},{"$f":"IF(endg.Anm!D28=\"\",\"\",endg.Anm!D28)","v":""},{"$f":"IF(endg.Anm!E28=\"\",\"\",endg.Anm!E28)","v":""},{"$f":"IF(endg.Anm!F28=\"\",\"\",endg.Anm!F28)","v":" "},{"$f":"IF(endg.Anm!G28=\"\",\"\",endg.Anm!G28)","v":""},{"$f":"IF(H21=\"B\",\"\",IF(endg.Anm!H28=\"\",\"\",endg.Anm!H28))","v":""},{"$f":"IF(endg.Anm!I28=\"\",\"\",endg.Anm!I28)","v":""},{"$f":"IF(endg.Anm!J28=\"\",\"\",endg.Anm!J28)","v":""}]
[{"$f":"IF(endg.Anm!B29=\"\",\"\",endg.Anm!$G$5)","v":""},{"$f":"IF(endg.Anm!B29=\"\",\"\",endg.Anm!$C$5)","v":""},{"$f":"IF(endg.Anm!B29=\"\",\"\",endg.Anm!B29)","v":""},{"$f":"IF(endg.Anm!C29=\"\",\"\",endg.Anm!C29)","v":""},{"$f":"IF(endg.Anm!D29=\"\",\"\",endg.Anm!D29)","v":""},{"$f":"IF(endg.Anm!E29=\"\",\"\",endg.Anm!E29)","v":""},{"$f":"IF(endg.Anm!F29=\"\",\"\",endg.Anm!F29)","v":" "},{"$f":"IF(endg.Anm!G29=\"\",\"\",endg.Anm!G29)","v":""},{"$f":"IF(H22=\"B\",\"\",IF(endg.Anm!H29=\"\",\"\",endg.Anm!H29))","v":""},{"$f":"IF(endg.Anm!I29=\"\",\"\",endg.Anm!I29)","v":""},{"$f":"IF(endg.Anm!J29=\"\",\"\",endg.Anm!J29)","v":""}]
[{"$f":"IF(endg.Anm!B30=\"\",\"\",endg.Anm!$G$5)","v":""},{"$f":"IF(endg.Anm!B30=\"\",\"\",endg.Anm!$C$5)","v":""},{"$f":"IF(endg.Anm!B30=\"\",\"\",endg.Anm!B30)","v":""},{"$f":"IF(endg.Anm!C30=\"\",\"\",endg.Anm!C30)","v":""},{"$f":"IF(endg.Anm!D30=\"\",\"\",endg.Anm!D30)","v":""},{"$f":"IF(endg.Anm!E30=\"\",\"\",endg.Anm!E30)","v":""},{"$f":"IF(endg.Anm!F30=\"\",\"\",endg.Anm!F30)","v":" "},{"$f":"IF(endg.Anm!G30=\"\",\"\",endg.Anm!G30)","v":""},{"$f":"IF(H23=\"B\",\"\",IF(endg.Anm!H30=\"\",\"\",endg.Anm!H30))","v":""},{"$f":"IF(endg.Anm!I30=\"\",\"\",endg.Anm!I30)","v":""},{"$f":"IF(endg.Anm!J30=\"\",\"\",endg.Anm!J30)","v":""}]
[{"$f":"IF(endg.Anm!B31=\"\",\"\",endg.Anm!$G$5)","v":""},{"$f":"IF(endg.Anm!B31=\"\",\"\",endg.Anm!$C$5)","v":""},{"$f":"IF(endg.Anm!B31=\"\",\"\",endg.Anm!B31)","v":""},{"$f":"IF(endg.Anm!C31=\"\",\"\",endg.Anm!C31)","v":""},{"$f":"IF(endg.Anm!D31=\"\",\"\",endg.Anm!D31)","v":""},{"$f":"IF(endg.Anm!E31=\"\",\"\",endg.Anm!E31)","v":""},{"$f":"IF(endg.Anm!F31=\"\",\"\",endg.Anm!F31)","v":" "},{"$f":"IF(endg.Anm!G31=\"\",\"\",endg.Anm!G31)","v":""},{"$f":"IF(H24=\"B\",\"\",IF(endg.Anm!H31=\"\",\"\",endg.Anm!H31))","v":""},{"$f":"IF(endg.Anm!I31=\"\",\"\",endg.Anm!I31)","v":""},{"$f":"IF(endg.Anm!J31=\"\",\"\",endg.Anm!J31)","v":""}]
[{"$f":"IF(endg.Anm!B32=\"\",\"\",endg.Anm!$G$5)","v":""},{"$f":"IF(endg.Anm!B32=\"\",\"\",endg.Anm!$C$5)","v":""},{"$f":"IF(endg.Anm!B32=\"\",\"\",endg.Anm!B32)","v":""},{"$f":"IF(endg.Anm!C32=\"\",\"\",endg.Anm!C32)","v":""},{"$f":"IF(endg.Anm!D32=\"\",\"\",endg.Anm!D32)","v":""},{"$f":"IF(endg.Anm!E32=\"\",\"\",endg.Anm!E32)","v":""},{"$f":"IF(endg.Anm!F32=\"\",\"\",endg.Anm!F32)","v":" "},{"$f":"IF(endg.Anm!G32=\"\",\"\",endg.Anm!G32)","v":""},{"$f":"IF(H25=\"B\",\"\",IF(endg.Anm!H32=\"\",\"\",endg.Anm!H32))","v":""},{"$f":"IF(endg.Anm!I32=\"\",\"\",endg.Anm!I32)","v":""},{"$f":"IF(endg.Anm!J32=\"\",\"\",endg.Anm!J32)","v":""}]
[{"$f":"IF(endg.Anm!B33=\"\",\"\",endg.Anm!$G$5)","v":""},{"$f":"IF(endg.Anm!B33=\"\",\"\",endg.Anm!$C$5)","v":""},{"$f":"IF(endg.Anm!B33=\"\",\"\",endg.Anm!B33)","v":""},{"$f":"IF(endg.Anm!C33=\"\",\"\",endg.Anm!C33)","v":""},{"$f":"IF(endg.Anm!D33=\"\",\"\",endg.Anm!D33)","v":""},{"$f":"IF(endg.Anm!E33=\"\",\"\",endg.Anm!E33)","v":""},{"$f":"IF(endg.Anm!F33=\"\",\"\",endg.Anm!F33)","v":" "},{"$f":"IF(endg.Anm!G33=\"\",\"\",endg.Anm!G33)","v":""},{"$f":"IF(H26=\"B\",\"\",IF(endg.Anm!H33=\"\",\"\",endg.Anm!H33))","v":""},{"$f":"IF(endg.Anm!I33=\"\",\"\",endg.Anm!I33)","v":""},{"$f":"IF(endg.Anm!J33=\"\",\"\",endg.Anm!J33)","v":""}]
[{"$f":"IF(endg.Anm!B34=\"\",\"\",endg.Anm!$G$5)","v":""},{"$f":"IF(endg.Anm!B34=\"\",\"\",endg.Anm!$C$5)","v":""},{"$f":"IF(endg.Anm!B34=\"\",\"\",endg.Anm!B34)","v":""},{"$f":"IF(endg.Anm!C34=\"\",\"\",endg.Anm!C34)","v":""},{"$f":"IF(endg.Anm!D34=\"\",\"\",endg.Anm!D34)","v":""},{"$f":"IF(endg.Anm!E34=\"\",\"\",endg.Anm!E34)","v":""},{"$f":"IF(endg.Anm!F34=\"\",\"\",endg.Anm!F34)","v":" "},{"$f":"IF(endg.Anm!G34=\"\",\"\",endg.Anm!G34)","v":""},{"$f":"IF(H27=\"B\",\"\",IF(endg.Anm!H34=\"\",\"\",endg.Anm!H34))","v":""},{"$f":"IF(endg.Anm!I34=\"\",\"\",endg.Anm!I34)","v":""},{"$f":"IF(endg.Anm!J34=\"\",\"\",endg.Anm!J34)","v":""}]
[{"$f":"IF(endg.Anm!B35=\"\",\"\",endg.Anm!$G$5)","v":""},{"$f":"IF(endg.Anm!B35=\"\",\"\",endg.Anm!$C$5)","v":""},{"$f":"IF(endg.Anm!B35=\"\",\"\",endg.Anm!B35)","v":""},{"$f":"IF(endg.Anm!C35=\"\",\"\",endg.Anm!C35)","v":""},{"$f":"IF(endg.Anm!D35=\"\",\"\",endg.Anm!D35)","v":""},{"$f":"IF(endg.Anm!E35=\"\",\"\",endg.Anm!E35)","v":""},{"$f":"IF(endg.Anm!F35=\"\",\"\",endg.Anm!F35)","v":" "},{"$f":"IF(endg.Anm!G35=\"\",\"\",endg.Anm!G35)","v":""},{"$f":"IF(H28=\"B\",\"\",IF(endg.Anm!H35=\"\",\"\",endg.Anm!H35))","v":""},{"$f":"IF(endg.Anm!I35=\"\",\"\",endg.Anm!I35)","v":""},{"$f":"IF(endg.Anm!J35=\"\",\"\",endg.Anm!J35)","v":""}]
[{"$f":"IF(endg.Anm!B36=\"\",\"\",endg.Anm!$G$5)","v":""},{"$f":"IF(endg.Anm!B36=\"\",\"\",endg.Anm!$C$5)","v":""},{"$f":"IF(endg.Anm!B36=\"\",\"\",endg.Anm!B36)","v":""},{"$f":"IF(endg.Anm!C36=\"\",\"\",endg.Anm!C36)","v":""},{"$f":"IF(endg.Anm!D36=\"\",\"\",endg.Anm!D36)","v":""},{"$f":"IF(endg.Anm!E36=\"\",\"\",endg.Anm!E36)","v":""},{"$f":"IF(endg.Anm!F36=\"\",\"\",endg.Anm!F36)","v":" "},{"$f":"IF(endg.Anm!G36=\"\",\"\",endg.Anm!G36)","v":""},{"$f":"IF(H29=\"B\",\"\",IF(endg.Anm!H36=\"\",\"\",endg.Anm!H36))","v":""},{"$f":"IF(endg.Anm!I36=\"\",\"\",endg.Anm!I36)","v":""},{"$f":"IF(endg.Anm!J36=\"\",\"\",endg.Anm!J36)","v":""}]
[{"$f":"IF(endg.Anm!B37=\"\",\"\",endg.Anm!$G$5)","v":""},{"$f":"IF(endg.Anm!B37=\"\",\"\",endg.Anm!$C$5)","v":""},{"$f":"IF(endg.Anm!B37=\"\",\"\",endg.Anm!B37)","v":""},{"$f":"IF(endg.Anm!C37=\"\",\"\",endg.Anm!C37)","v":""},{"$f":"IF(endg.Anm!D37=\"\",\"\",endg.Anm!D37)","v":""},{"$f":"IF(endg.Anm!E37=\"\",\"\",endg.Anm!E37)","v":""},{"$f":"IF(endg.Anm!F37=\"\",\"\",endg.Anm!F37)","v":" "},{"$f":"IF(endg.Anm!G37=\"\",\"\",endg.Anm!G37)","v":""},{"$f":"IF(H30=\"B\",\"\",IF(endg.Anm!H37=\"\",\"\",endg.Anm!H37))","v":""},{"$f":"IF(endg.Anm!I37=\"\",\"\",endg.Anm!I37)","v":""},{"$f":"IF(endg.Anm!J37=\"\",\"\",endg.Anm!J37)","v":""}]
[{"$f":"IF(endg.Anm!B38=\"\",\"\",endg.Anm!$G$5)","v":""},{"$f":"IF(endg.Anm!B38=\"\",\"\",endg.Anm!$C$5)","v":""},{"$f":"IF(endg.Anm!B38=\"\",\"\",endg.Anm!B38)","v":""},{"$f":"IF(endg.Anm!C38=\"\",\"\",endg.Anm!C38)","v":""},{"$f":"IF(endg.Anm!D38=\"\",\"\",endg.Anm!D38)","v":""},{"$f":"IF(endg.Anm!E38=\"\",\"\",endg.Anm!E38)","v":""},{"$f":"IF(endg.Anm!F38=\"\",\"\",endg.Anm!F38)","v":" "},{"$f":"IF(endg.Anm!G38=\"\",\"\",endg.Anm!G38)","v":""},{"$f":"IF(H31=\"B\",\"\",IF(endg.Anm!H38=\"\",\"\",endg.Anm!H38))","v":""},{"$f":"IF(endg.Anm!I38=\"\",\"\",endg.Anm!I38)","v":""},{"$f":"IF(endg.Anm!J38=\"\",\"\",endg.Anm!J38)","v":""}]
[{"$f":"IF(endg.Anm!B39=\"\",\"\",endg.Anm!$G$5)","v":""},{"$f":"IF(endg.Anm!B39=\"\",\"\",endg.Anm!$C$5)","v":""},{"$f":"IF(endg.Anm!B39=\"\",\"\",endg.Anm!B39)","v":""},{"$f":"IF(endg.Anm!C39=\"\",\"\",endg.Anm!C39)","v":""},{"$f":"IF(endg.Anm!D39=\"\",\"\",endg.Anm!D39)","v":""},{"$f":"IF(endg.Anm!E39=\"\",\"\",endg.Anm!E39)","v":""},{"$f":"IF(endg.Anm!F39=\"\",\"\",endg.Anm!F39)","v":" "},{"$f":"IF(endg.Anm!G39=\"\",\"\",endg.Anm!G39)","v":""},{"$f":"IF(H32=\"B\",\"\",IF(endg.Anm!H39=\"\",\"\",endg.Anm!H39))","v":""},{"$f":"IF(endg.Anm!I39=\"\",\"\",endg.Anm!I39)","v":""},{"$f":"IF(endg.Anm!J39=\"\",\"\",endg.Anm!J39)","v":""}]
[{"$f":"IF(endg.Anm!B40=\"\",\"\",endg.Anm!$G$5)","v":""},{"$f":"IF(endg.Anm!B40=\"\",\"\",endg.Anm!$C$5)","v":""},{"$f":"IF(endg.Anm!B40=\"\",\"\",endg.Anm!B40)","v":""},{"$f":"IF(endg.Anm!C40=\"\",\"\",endg.Anm!C40)","v":""},{"$f":"IF(endg.Anm!D40=\"\",\"\",endg.Anm!D40)","v":""},{"$f":"IF(endg.Anm!E40=\"\",\"\",endg.Anm!E40)","v":""},{"$f":"IF(endg.Anm!F40=\"\",\"\",endg.Anm!F40)","v":" "},{"$f":"IF(endg.Anm!G40=\"\",\"\",endg.Anm!G40)","v":""},{"$f":"IF(H33=\"B\",\"\",IF(endg.Anm!H40=\"\",\"\",endg.Anm!H40))","v":""},{"$f":"IF(endg.Anm!I40=\"\",\"\",endg.Anm!I40)","v":""},{"$f":"IF(endg.Anm!J40=\"\",\"\",endg.Anm!J40)","v":""}]
[{"$f":"IF(endg.Anm!B41=\"\",\"\",endg.Anm!$G$5)","v":""},{"$f":"IF(endg.Anm!B41=\"\",\"\",endg.Anm!$C$5)","v":""},{"$f":"IF(endg.Anm!B41=\"\",\"\",endg.Anm!B41)","v":""},{"$f":"IF(endg.Anm!C41=\"\",\"\",endg.Anm!C41)","v":""},{"$f":"IF(endg.Anm!D41=\"\",\"\",endg.Anm!D41)","v":""},{"$f":"IF(endg.Anm!E41=\"\",\"\",endg.Anm!E41)","v":""},{"$f":"IF(endg.Anm!F41=\"\",\"\",endg.Anm!F41)","v":" "},{"$f":"IF(endg.Anm!G41=\"\",\"\",endg.Anm!G41)","v":""},{"$f":"IF(H34=\"B\",\"\",IF(endg.Anm!H41=\"\",\"\",endg.Anm!H41))","v":""},{"$f":"IF(endg.Anm!I41=\"\",\"\",endg.Anm!I41)","v":""},{"$f":"IF(endg.Anm!J41=\"\",\"\",endg.Anm!J41)","v":""}]
[{"$f":"IF(endg.Anm!B42=\"\",\"\",endg.Anm!$G$5)","v":""},{"$f":"IF(endg.Anm!B42=\"\",\"\",endg.Anm!$C$5)","v":""},{"$f":"IF(endg.Anm!B42=\"\",\"\",endg.Anm!B42)","v":""},{"$f":"IF(endg.Anm!C42=\"\",\"\",endg.Anm!C42)","v":""},{"$f":"IF(endg.Anm!D42=\"\",\"\",endg.Anm!D42)","v":""},{"$f":"IF(endg.Anm!E42=\"\",\"\",endg.Anm!E42)","v":""},{"$f":"IF(endg.Anm!F42=\"\",\"\",endg.Anm!F42)","v":" "},{"$f":"IF(endg.Anm!G42=\"\",\"\",endg.Anm!G42)","v":""},{"$f":"IF(H35=\"B\",\"\",IF(endg.Anm!H42=\"\",\"\",endg.Anm!H42))","v":""},{"$f":"IF(endg.Anm!I42=\"\",\"\",endg.Anm!I42)","v":""},{"$f":"IF(endg.Anm!J42=\"\",\"\",endg.Anm!J42)","v":""}]
[{"$f":"IF(endg.Anm!B43=\"\",\"\",endg.Anm!$G$5)","v":""},{"$f":"IF(endg.Anm!B43=\"\",\"\",endg.Anm!$C$5)","v":""},{"$f":"IF(endg.Anm!B43=\"\",\"\",endg.Anm!B43)","v":""},{"$f":"IF(endg.Anm!C43=\"\",\"\",endg.Anm!C43)","v":""},{"$f":"IF(endg.Anm!D43=\"\",\"\",endg.Anm!D43)","v":""},{"$f":"IF(endg.Anm!E43=\"\",\"\",endg.Anm!E43)","v":""},{"$f":"IF(endg.Anm!F43=\"\",\"\",endg.Anm!F43)","v":" "},{"$f":"IF(endg.Anm!G43=\"\",\"\",endg.Anm!G43)","v":""},{"$f":"IF(H36=\"B\",\"\",IF(endg.Anm!H43=\"\",\"\",endg.Anm!H43))","v":""},{"$f":"IF(endg.Anm!I43=\"\",\"\",endg.Anm!I43)","v":""},{"$f":"IF(endg.Anm!J43=\"\",\"\",endg.Anm!J43)","v":""}]
[{"$f":"IF(endg.Anm!B44=\"\",\"\",endg.Anm!$G$5)","v":""},{"$f":"IF(endg.Anm!B44=\"\",\"\",endg.Anm!$C$5)","v":""},{"$f":"IF(endg.Anm!B44=\"\",\"\",endg.Anm!B44)","v":""},{"$f":"IF(endg.Anm!C44=\"\",\"\",endg.Anm!C44)","v":""},{"$f":"IF(endg.Anm!D44=\"\",\"\",endg.Anm!D44)","v":""},{"$f":"IF(endg.Anm!E44=\"\",\"\",endg.Anm!E44)","v":""},{"$f":"IF(endg.Anm!F44=\"\",\"\",endg.Anm!F44)","v":" "},{"$f":"IF(endg.Anm!G44=\"\",\"\",endg.Anm!G44)","v":""},{"$f":"IF(H37=\"B\",\"\",IF(endg.Anm!H44=\"\",\"\",endg.Anm!H44))","v":""},{"$f":"IF(endg.Anm!I44=\"\",\"\",endg.Anm!I44)","v":""},{"$f":"IF(endg.Anm!J44=\"\",\"\",endg.Anm!J44)","v":""}]
[{"$f":"IF(endg.Anm!B45=\"\",\"\",endg.Anm!$G$5)","v":""},{"$f":"IF(endg.Anm!B45=\"\",\"\",endg.Anm!$C$5)","v":""},{"$f":"IF(endg.Anm!B45=\"\",\"\",endg.Anm!B45)","v":""},{"$f":"IF(endg.Anm!C45=\"\",\"\",endg.Anm!C45)","v":""},{"$f":"IF(endg.Anm!D45=\"\",\"\",endg.Anm!D45)","v":""},{"$f":"IF(endg.Anm!E45=\"\",\"\",endg.Anm!E45)","v":""},{"$f":"IF(endg.Anm!F45=\"\",\"\",endg.Anm!F45)","v":" "},{"$f":"IF(endg.Anm!G45=\"\",\"\",endg.Anm!G45)","v":""},{"$f":"IF(H38=\"B\",\"\",IF(endg.Anm!H45=\"\",\"\",endg.Anm!H45))","v":""},{"$f":"IF(endg.Anm!I45=\"\",\"\",endg.Anm!I45)","v":""},{"$f":"IF(endg.Anm!J45=\"\",\"\",endg.Anm!J45)","v":""}]
[{"$f":"IF(endg.Anm!B46=\"\",\"\",endg.Anm!$G$5)","v":""},{"$f":"IF(endg.Anm!B46=\"\",\"\",endg.Anm!$C$5)","v":""},{"$f":"IF(endg.Anm!B46=\"\",\"\",endg.Anm!B46)","v":""},{"$f":"IF(endg.Anm!C46=\"\",\"\",endg.Anm!C46)","v":""},{"$f":"IF(endg.Anm!D46=\"\",\"\",endg.Anm!D46)","v":""},{"$f":"IF(endg.Anm!E46=\"\",\"\",endg.Anm!E46)","v":""},{"$f":"IF(endg.Anm!F46=\"\",\"\",endg.Anm!F46)","v":" "},{"$f":"IF(endg.Anm!G46=\"\",\"\",endg.Anm!G46)","v":""},{"$f":"IF(H39=\"B\",\"\",IF(endg.Anm!H46=\"\",\"\",endg.Anm!H46))","v":""},{"$f":"IF(endg.Anm!I46=\"\",\"\",endg.Anm!I46)","v":""},{"$f":"IF(endg.Anm!J46=\"\",\"\",endg.Anm!J46)","v":""}]
[{"$f":"IF(endg.Anm!B47=\"\",\"\",endg.Anm!$G$5)","v":""},{"$f":"IF(endg.Anm!B47=\"\",\"\",endg.Anm!$C$5)","v":""},{"$f":"IF(endg.Anm!B47=\"\",\"\",endg.Anm!B47)","v":""},{"$f":"IF(endg.Anm!C47=\"\",\"\",endg.Anm!C47)","v":""},{"$f":"IF(endg.Anm!D47=\"\",\"\",endg.Anm!D47)","v":""},{"$f":"IF(endg.Anm!E47=\"\",\"\",endg.Anm!E47)","v":""},{"$f":"IF(endg.Anm!F47=\"\",\"\",endg.Anm!F47)","v":" "},{"$f":"IF(endg.Anm!G47=\"\",\"\",endg.Anm!G47)","v":""},{"$f":"IF(H40=\"B\",\"\",IF(endg.Anm!H47=\"\",\"\",endg.Anm!H47))","v":""},{"$f":"IF(endg.Anm!I47=\"\",\"\",endg.Anm!I47)","v":""},{"$f":"IF(endg.Anm!J47=\"\",\"\",endg.Anm!J47)","v":""}]
[{"$f":"IF(endg.Anm!B48=\"\",\"\",endg.Anm!$G$5)","v":""},{"$f":"IF(endg.Anm!B48=\"\",\"\",endg.Anm!$C$5)","v":""},{"$f":"IF(endg.Anm!B48=\"\",\"\",endg.Anm!B48)","v":""},{"$f":"IF(endg.Anm!C48=\"\",\"\",endg.Anm!C48)","v":""},{"$f":"IF(endg.Anm!D48=\"\",\"\",endg.Anm!D48)","v":""},{"$f":"IF(endg.Anm!E48=\"\",\"\",endg.Anm!E48)","v":""},{"$f":"IF(endg.Anm!F48=\"\",\"\",endg.Anm!F48)","v":" "},{"$f":"IF(endg.Anm!G48=\"\",\"\",endg.Anm!G48)","v":""},{"$f":"IF(H41=\"B\",\"\",IF(endg.Anm!H48=\"\",\"\",endg.Anm!H48))","v":""},{"$f":"IF(endg.Anm!I48=\"\",\"\",endg.Anm!I48)","v":""},{"$f":"IF(endg.Anm!J48=\"\",\"\",endg.Anm!J48)","v":""}]
[{"$f":"IF(endg.Anm!B49=\"\",\"\",endg.Anm!$G$5)","v":""},{"$f":"IF(endg.Anm!B49=\"\",\"\",endg.Anm!$C$5)","v":""},{"$f":"IF(endg.Anm!B49=\"\",\"\",endg.Anm!B49)","v":""},{"$f":"IF(endg.Anm!C49=\"\",\"\",endg.Anm!C49)","v":""},{"$f":"IF(endg.Anm!D49=\"\",\"\",endg.Anm!D49)","v":""},{"$f":"IF(endg.Anm!E49=\"\",\"\",endg.Anm!E49)","v":""},{"$f":"IF(endg.Anm!F49=\"\",\"\",endg.Anm!F49)","v":" "},{"$f":"IF(endg.Anm!G49=\"\",\"\",endg.Anm!G49)","v":""},{"$f":"IF(H42=\"B\",\"\",IF(endg.Anm!H49=\"\",\"\",endg.Anm!H49))","v":""},{"$f":"IF(endg.Anm!I49=\"\",\"\",endg.Anm!I49)","v":""},{"$f":"IF(endg.Anm!J49=\"\",\"\",endg.Anm!J49)","v":""}]
[{"$f":"IF(endg.Anm!B50=\"\",\"\",endg.Anm!$G$5)","v":""},{"$f":"IF(endg.Anm!B50=\"\",\"\",endg.Anm!$C$5)","v":""},{"$f":"IF(endg.Anm!B50=\"\",\"\",endg.Anm!B50)","v":""},{"$f":"IF(endg.Anm!C50=\"\",\"\",endg.Anm!C50)","v":""},{"$f":"IF(endg.Anm!D50=\"\",\"\",endg.Anm!D50)","v":""},{"$f":"IF(endg.Anm!E50=\"\",\"\",endg.Anm!E50)","v":""},{"$f":"IF(endg.Anm!F50=\"\",\"\",endg.Anm!F50)","v":" "},{"$f":"IF(endg.Anm!G50=\"\",\"\",endg.Anm!G50)","v":""},{"$f":"IF(H43=\"B\",\"\",IF(endg.Anm!H50=\"\",\"\",endg.Anm!H50))","v":""},{"$f":"IF(endg.Anm!I50=\"\",\"\",endg.Anm!I50)","v":""},{"$f":"IF(endg.Anm!J50=\"\",\"\",endg.Anm!J50)","v":""}]
[{"$f":"IF(endg.Anm!B51=\"\",\"\",endg.Anm!$G$5)","v":""},{"$f":"IF(endg.Anm!B51=\"\",\"\",endg.Anm!$C$5)","v":""},{"$f":"IF(endg.Anm!B51=\"\",\"\",endg.Anm!B51)","v":""},{"$f":"IF(endg.Anm!C51=\"\",\"\",endg.Anm!C51)","v":""},{"$f":"IF(endg.Anm!D51=\"\",\"\",endg.Anm!D51)","v":""},{"$f":"IF(endg.Anm!E51=\"\",\"\",endg.Anm!E51)","v":""},{"$f":"IF(endg.Anm!F51=\"\",\"\",endg.Anm!F51)","v":" "},{"$f":"IF(endg.Anm!G51=\"\",\"\",endg.Anm!G51)","v":""},{"$f":"IF(H44=\"B\",\"\",IF(endg.Anm!H51=\"\",\"\",endg.Anm!H51))","v":""},{"$f":"IF(endg.Anm!I51=\"\",\"\",endg.Anm!I51)","v":""},{"$f":"IF(endg.Anm!J51=\"\",\"\",endg.Anm!J51)","v":""}]
[{"$f":"IF(endg.Anm!B52=\"\",\"\",endg.Anm!$G$5)","v":""},{"$f":"IF(endg.Anm!B52=\"\",\"\",endg.Anm!$C$5)","v":""},{"$f":"IF(endg.Anm!B52=\"\",\"\",endg.Anm!B52)","v":""},{"$f":"IF(endg.Anm!C52=\"\",\"\",endg.Anm!C52)","v":""},{"$f":"IF(endg.Anm!D52=\"\",\"\",endg.Anm!D52)","v":""},{"$f":"IF(endg.Anm!E52=\"\",\"\",endg.Anm!E52)","v":""},{"$f":"IF(endg.Anm!F52=\"\",\"\",endg.Anm!F52)","v":" "},{"$f":"IF(endg.Anm!G52=\"\",\"\",endg.Anm!G52)","v":""},{"$f":"IF(H45=\"B\",\"\",IF(endg.Anm!H52=\"\",\"\",endg.Anm!H52))","v":""},{"$f":"IF(endg.Anm!I52=\"\",\"\",endg.Anm!I52)","v":""},{"$f":"IF(endg.Anm!J52=\"\",\"\",endg.Anm!J52)","v":""}]
[{"$f":"IF(endg.Anm!B53=\"\",\"\",endg.Anm!$G$5)","v":""},{"$f":"IF(endg.Anm!B53=\"\",\"\",endg.Anm!$C$5)","v":""},{"$f":"IF(endg.Anm!B53=\"\",\"\",endg.Anm!B53)","v":""},{"$f":"IF(endg.Anm!C53=\"\",\"\",endg.Anm!C53)","v":""},{"$f":"IF(endg.Anm!D53=\"\",\"\",endg.Anm!D53)","v":""},{"$f":"IF(endg.Anm!E53=\"\",\"\",endg.Anm!E53)","v":""},{"$f":"IF(endg.Anm!F53=\"\",\"\",endg.Anm!F53)","v":" "},{"$f":"IF(endg.Anm!G53=\"\",\"\",endg.Anm!G53)","v":""},{"$f":"IF(H46=\"B\",\"\",IF(endg.Anm!H53=\"\",\"\",endg.Anm!H53))","v":""},{"$f":"IF(endg.Anm!I53=\"\",\"\",endg.Anm!I53)","v":""},{"$f":"IF(endg.Anm!J53=\"\",\"\",endg.Anm!J53)","v":""}]
[{"$f":"IF(endg.Anm!B54=\"\",\"\",endg.Anm!$G$5)","v":""},{"$f":"IF(endg.Anm!B54=\"\",\"\",endg.Anm!$C$5)","v":""},{"$f":"IF(endg.Anm!B54=\"\",\"\",endg.Anm!B54)","v":""},{"$f":"IF(endg.Anm!C54=\"\",\"\",endg.Anm!C54)","v":""},{"$f":"IF(endg.Anm!D54=\"\",\"\",endg.Anm!D54)","v":""},{"$f":"IF(endg.Anm!E54=\"\",\"\",endg.Anm!E54)","v":""},{"$f":"IF(endg.Anm!F54=\"\",\"\",endg.Anm!F54)","v":" "},{"$f":"IF(endg.Anm!G54=\"\",\"\",endg.Anm!G54)","v":""},{"$f":"IF(H47=\"B\",\"\",IF(endg.Anm!H54=\"\",\"\",endg.Anm!H54))","v":""},{"$f":"IF(endg.Anm!I54=\"\",\"\",endg.Anm!I54)","v":""},{"$f":"IF(endg.Anm!J54=\"\",\"\",endg.Anm!J54)","v":""}]
[{"$f":"IF(endg.Anm!B55=\"\",\"\",endg.Anm!$G$5)","v":""},{"$f":"IF(endg.Anm!B55=\"\",\"\",endg.Anm!$C$5)","v":""},{"$f":"IF(endg.Anm!B55=\"\",\"\",endg.Anm!B55)","v":""},{"$f":"IF(endg.Anm!C55=\"\",\"\",endg.Anm!C55)","v":""},{"$f":"IF(endg.Anm!D55=\"\",\"\",endg.Anm!D55)","v":""},{"$f":"IF(endg.Anm!E55=\"\",\"\",endg.Anm!E55)","v":""},{"$f":"IF(endg.Anm!F55=\"\",\"\",endg.Anm!F55)","v":" "},{"$f":"IF(endg.Anm!G55=\"\",\"\",endg.Anm!G55)","v":""},{"$f":"IF(H48=\"B\",\"\",IF(endg.Anm!H55=\"\",\"\",endg.Anm!H55))","v":""},{"$f":"IF(endg.Anm!I55=\"\",\"\",endg.Anm!I55)","v":""},{"$f":"IF(endg.Anm!J55=\"\",\"\",endg.Anm!J55)","v":""}]
[{"$f":"IF(endg.Anm!B56=\"\",\"\",endg.Anm!$G$5)","v":""},{"$f":"IF(endg.Anm!B56=\"\",\"\",endg.Anm!$C$5)","v":""},{"$f":"IF(endg.Anm!B56=\"\",\"\",endg.Anm!B56)","v":""},{"$f":"IF(endg.Anm!C56=\"\",\"\",endg.Anm!C56)","v":""},{"$f":"IF(endg.Anm!D56=\"\",\"\",endg.Anm!D56)","v":""},{"$f":"IF(endg.Anm!E56=\"\",\"\",endg.Anm!E56)","v":""},{"$f":"IF(endg.Anm!F56=\"\",\"\",endg.Anm!F56)","v":" "},{"$f":"IF(endg.Anm!G56=\"\",\"\",endg.Anm!G56)","v":""},{"$f":"IF(H49=\"B\",\"\",IF(endg.Anm!H56=\"\",\"\",endg.Anm!H56))","v":""},{"$f":"IF(endg.Anm!I56=\"\",\"\",endg.Anm!I56)","v":""},{"$f":"IF(endg.Anm!J56=\"\",\"\",endg.Anm!J56)","v":""}]
[{"$f":"IF(endg.Anm!B57=\"\",\"\",endg.Anm!$G$5)","v":""},{"$f":"IF(endg.Anm!B57=\"\",\"\",endg.Anm!$C$5)","v":""},{"$f":"IF(endg.Anm!B57=\"\",\"\",endg.Anm!B57)","v":""},{"$f":"IF(endg.Anm!C57=\"\",\"\",endg.Anm!C57)","v":""},{"$f":"IF(endg.Anm!D57=\"\",\"\",endg.Anm!D57)","v":""},{"$f":"IF(endg.Anm!E57=\"\",\"\",endg.Anm!E57)","v":""},{"$f":"IF(endg.Anm!F57=\"\",\"\",endg.Anm!F57)","v":" "},{"$f":"IF(endg.Anm!G57=\"\",\"\",endg.Anm!G57)","v":""},{"$f":"IF(H50=\"B\",\"\",IF(endg.Anm!H57=\"\",\"\",endg.Anm!H57))","v":""},{"$f":"IF(endg.Anm!I57=\"\",\"\",endg.Anm!I57)","v":""},{"$f":"IF(endg.Anm!J57=\"\",\"\",endg.Anm!J57)","v":""}]
[{"$f":"IF(endg.Anm!B58=\"\",\"\",endg.Anm!$G$5)","v":""},{"$f":"IF(endg.Anm!B58=\"\",\"\",endg.Anm!$C$5)","v":""},{"$f":"IF(endg.Anm!B58=\"\",\"\",endg.Anm!B58)","v":""},{"$f":"IF(endg.Anm!C58=\"\",\"\",endg.Anm!C58)","v":""},{"$f":"IF(endg.Anm!D58=\"\",\"\",endg.Anm!D58)","v":""},{"$f":"IF(endg.Anm!E58=\"\",\"\",endg.Anm!E58)","v":""},{"$f":"IF(endg.Anm!F58=\"\",\"\",endg.Anm!F58)","v":" "},{"$f":"IF(endg.Anm!G58=\"\",\"\",endg.Anm!G58)","v":""},{"$f":"IF(H51=\"B\",\"\",IF(endg.Anm!H58=\"\",\"\",endg.Anm!H58))","v":""},{"$f":"IF(endg.Anm!I58=\"\",\"\",endg.Anm!I58)","v":""},{"$f":"IF(endg.Anm!J58=\"\",\"\",endg.Anm!J58)","v":""}]
[{"$f":"IF(endg.Anm!B59=\"\",\"\",endg.Anm!$G$5)","v":""},{"$f":"IF(endg.Anm!B59=\"\",\"\",endg.Anm!$C$5)","v":""},{"$f":"IF(endg.Anm!B59=\"\",\"\",endg.Anm!B59)","v":""},{"$f":"IF(endg.Anm!C59=\"\",\"\",endg.Anm!C59)","v":""},{"$f":"IF(endg.Anm!D59=\"\",\"\",endg.Anm!D59)","v":""},{"$f":"IF(endg.Anm!E59=\"\",\"\",endg.Anm!E59)","v":""},{"$f":"IF(endg.Anm!F59=\"\",\"\",endg.Anm!F59)","v":" "},{"$f":"IF(endg.Anm!G59=\"\",\"\",endg.Anm!G59)","v":""},{"$f":"IF(H52=\"B\",\"\",IF(endg.Anm!H59=\"\",\"\",endg.Anm!H59))","v":""},{"$f":"IF(endg.Anm!I59=\"\",\"\",endg.Anm!I59)","v":""},{"$f":"IF(endg.Anm!J59=\"\",\"\",endg.Anm!J59)","v":""}]
[{"$f":"IF(endg.Anm!B60=\"\",\"\",endg.Anm!$G$5)","v":""},{"$f":"IF(endg.Anm!B60=\"\",\"\",endg.Anm!$C$5)","v":""},{"$f":"IF(endg.Anm!B60=\"\",\"\",endg.Anm!B60)","v":""},{"$f":"IF(endg.Anm!C60=\"\",\"\",endg.Anm!C60)","v":""},{"$f":"IF(endg.Anm!D60=\"\",\"\",endg.Anm!D60)","v":""},{"$f":"IF(endg.Anm!E60=\"\",\"\",endg.Anm!E60)","v":""},{"$f":"IF(endg.Anm!F60=\"\",\"\",endg.Anm!F60)","v":" "},{"$f":"IF(endg.Anm!G60=\"\",\"\",endg.Anm!G60)","v":""},{"$f":"IF(H53=\"B\",\"\",IF(endg.Anm!H60=\"\",\"\",endg.Anm!H60))","v":""},{"$f":"IF(endg.Anm!I60=\"\",\"\",endg.Anm!I60)","v":""},{"$f":"IF(endg.Anm!J60=\"\",\"\",endg.Anm!J60)","v":""}]
[{"$f":"IF(endg.Anm!B61=\"\",\"\",endg.Anm!$G$5)","v":""},{"$f":"IF(endg.Anm!B61=\"\",\"\",endg.Anm!$C$5)","v":""},{"$f":"IF(endg.Anm!B61=\"\",\"\",endg.Anm!B61)","v":""},{"$f":"IF(endg.Anm!C61=\"\",\"\",endg.Anm!C61)","v":""},{"$f":"IF(endg.Anm!D61=\"\",\"\",endg.Anm!D61)","v":""},{"$f":"IF(endg.Anm!E61=\"\",\"\",endg.Anm!E61)","v":""},{"$f":"IF(endg.Anm!F61=\"\",\"\",endg.Anm!F61)","v":" "},{"$f":"IF(endg.Anm!G61=\"\",\"\",endg.Anm!G61)","v":""},{"$f":"IF(H54=\"B\",\"\",IF(endg.Anm!H61=\"\",\"\",endg.Anm!H61))","v":""},{"$f":"IF(endg.Anm!I61=\"\",\"\",endg.Anm!I61)","v":""},{"$f":"IF(endg.Anm!J61=\"\",\"\",endg.Anm!J61)","v":""}]
[{"$f":"IF(endg.Anm!B62=\"\",\"\",endg.Anm!$G$5)","v":""},{"$f":"IF(endg.Anm!B62=\"\",\"\",endg.Anm!$C$5)","v":""},{"$f":"IF(endg.Anm!B62=\"\",\"\",endg.Anm!B62)","v":""},{"$f":"IF(endg.Anm!C62=\"\",\"\",endg.Anm!C62)","v":""},{"$f":"IF(endg.Anm!D62=\"\",\"\",endg.Anm!D62)","v":""},{"$f":"IF(endg.Anm!E62=\"\",\"\",endg.Anm!E62)","v":""},{"$f":"IF(endg.Anm!F62=\"\",\"\",endg.Anm!F62)","v":" "},{"$f":"IF(endg.Anm!G62=\"\",\"\",endg.Anm!G62)","v":""},{"$f":"IF(H55=\"B\",\"\",IF(endg.Anm!H62=\"\",\"\",endg.Anm!H62))","v":""},{"$f":"IF(endg.Anm!I62=\"\",\"\",endg.Anm!I62)","v":""},{"$f":"IF(endg.Anm!J62=\"\",\"\",endg.Anm!J62)","v":""}]
[{"$f":"IF(endg.Anm!B63=\"\",\"\",endg.Anm!$G$5)","v":""},{"$f":"IF(endg.Anm!B63=\"\",\"\",endg.Anm!$C$5)","v":""},{"$f":"IF(endg.Anm!B63=\"\",\"\",endg.Anm!B63)","v":""},{"$f":"IF(endg.Anm!C63=\"\",\"\",endg.Anm!C63)","v":""},{"$f":"IF(endg.Anm!D63=\"\",\"\",endg.Anm!D63)","v":""},{"$f":"IF(endg.Anm!E63=\"\",\"\",endg.Anm!E63)","v":""},{"$f":"IF(endg.Anm!F63=\"\",\"\",endg.Anm!F63)","v":" "},{"$f":"IF(endg.Anm!G63=\"\",\"\",endg.Anm!G63)","v":""},{"$f":"IF(H56=\"B\",\"\",IF(endg.Anm!H63=\"\",\"\",endg.Anm!H63))","v":""},{"$f":"IF(endg.Anm!I63=\"\",\"\",endg.Anm!I63)","v":""},{"$f":"IF(endg.Anm!J63=\"\",\"\",endg.Anm!J63)","v":""}]
[{"$f":"IF(endg.Anm!B64=\"\",\"\",endg.Anm!$G$5)","v":""},{"$f":"IF(endg.Anm!B64=\"\",\"\",endg.Anm!$C$5)","v":""},{"$f":"IF(endg.Anm!B64=\"\",\"\",endg.Anm!B64)","v":""},{"$f":"IF(endg.Anm!C64=\"\",\"\",endg.Anm!C64)","v":""},{"$f":"IF(endg.Anm!D64=\"\",\"\",endg.Anm!D64)","v":""},{"$f":"IF(endg.Anm!E64=\"\",\"\",endg.Anm!E64)","v":""},{"$f":"IF(endg.Anm!F64=\"\",\"\",endg.Anm!F64)","v":" "},{"$f":"IF(endg.Anm!G64=\"\",\"\",endg.Anm!G64)","v":""},{"$f":"IF(H57=\"B\",\"\",IF(endg.Anm!H64=\"\",\"\",endg.Anm!H64))","v":""},{"$f":"IF(endg.Anm!I64=\"\",\"\",endg.Anm!I64)","v":""},{"$f":"IF(endg.Anm!J64=\"\",\"\",endg.Anm!J64)","v":""}]
[{"$f":"IF(endg.Anm!B65=\"\",\"\",endg.Anm!$G$5)","v":""},{"$f":"IF(endg.Anm!B65=\"\",\"\",endg.Anm!$C$5)","v":""},{"$f":"IF(endg.Anm!B65=\"\",\"\",endg.Anm!B65)","v":""},{"$f":"IF(endg.Anm!C65=\"\",\"\",endg.Anm!C65)","v":""},{"$f":"IF(endg.Anm!D65=\"\",\"\",endg.Anm!D65)","v":""},{"$f":"IF(endg.Anm!E65=\"\",\"\",endg.Anm!E65)","v":""},{"$f":"IF(endg.Anm!F65=\"\",\"\",endg.Anm!F65)","v":" "},{"$f":"IF(endg.Anm!G65=\"\",\"\",endg.Anm!G65)","v":""},{"$f":"IF(H58=\"B\",\"\",IF(endg.Anm!H65=\"\",\"\",endg.Anm!H65))","v":""},{"$f":"IF(endg.Anm!I65=\"\",\"\",endg.Anm!I65)","v":""},{"$f":"IF(endg.Anm!J65=\"\",\"\",endg.Anm!J65)","v":""}]
[{"$f":"IF(endg.Anm!B66=\"\",\"\",endg.Anm!$G$5)","v":""},{"$f":"IF(endg.Anm!B66=\"\",\"\",endg.Anm!$C$5)","v":""},{"$f":"IF(endg.Anm!B66=\"\",\"\",endg.Anm!B66)","v":""},{"$f":"IF(endg.Anm!C66=\"\",\"\",endg.Anm!C66)","v":""},{"$f":"IF(endg.Anm!D66=\"\",\"\",endg.Anm!D66)","v":""},{"$f":"IF(endg.Anm!E66=\"\",\"\",endg.Anm!E66)","v":""},{"$f":"IF(endg.Anm!F66=\"\",\"\",endg.Anm!F66)","v":" "},{"$f":"IF(endg.Anm!G66=\"\",\"\",endg.Anm!G66)","v":""},{"$f":"IF(H59=\"B\",\"\",IF(endg.Anm!H66=\"\",\"\",endg.Anm!H66))","v":""},{"$f":"IF(endg.Anm!I66=\"\",\"\",endg.Anm!I66)","v":""},{"$f":"IF(endg.Anm!J66=\"\",\"\",endg.Anm!J66)","v":""}]
[{"$f":"IF(endg.Anm!B67=\"\",\"\",endg.Anm!$G$5)","v":""},{"$f":"IF(endg.Anm!B67=\"\",\"\",endg.Anm!$C$5)","v":""},{"$f":"IF(endg.Anm!B67=\"\",\"\",endg.Anm!B67)","v":""},{"$f":"IF(endg.Anm!C67=\"\",\"\",endg.Anm!C67)","v":""},{"$f":"IF(endg.Anm!D67=\"\",\"\",endg.Anm!D67)","v":""},{"$f":"IF(endg.Anm!E67=\"\",\"\",endg.Anm!E67)","v":""},{"$f":"IF(endg.Anm!F67=\"\",\"\",endg.Anm!F67)","v":" "},{"$f":"IF(endg.Anm!G67=\"\",\"\",endg.Anm!G67)","v":""},{"$f":"IF(H60=\"B\",\"\",IF(endg.Anm!H67=\"\",\"\",endg.Anm!H67))","v":""},{"$f":"IF(endg.Anm!I67=\"\",\"\",endg.Anm!I67)","v":""},{"$f":"IF(endg.Anm!J67=\"\",\"\",endg.Anm!J67)","v":""}]
[{"$f":"IF(endg.Anm!B68=\"\",\"\",endg.Anm!$G$5)","v":""},{"$f":"IF(endg.Anm!B68=\"\",\"\",endg.Anm!$C$5)","v":""},{"$f":"IF(endg.Anm!B68=\"\",\"\",endg.Anm!B68)","v":""},{"$f":"IF(endg.Anm!C68=\"\",\"\",endg.Anm!C68)","v":""},{"$f":"IF(endg.Anm!D68=\"\",\"\",endg.Anm!D68)","v":""},{"$f":"IF(endg.Anm!E68=\"\",\"\",endg.Anm!E68)","v":""},{"$f":"IF(endg.Anm!F68=\"\",\"\",endg.Anm!F68)","v":" "},{"$f":"IF(endg.Anm!G68=\"\",\"\",endg.Anm!G68)","v":""},{"$f":"IF(H61=\"B\",\"\",IF(endg.Anm!H68=\"\",\"\",endg.Anm!H68))","v":""},{"$f":"IF(endg.Anm!I68=\"\",\"\",endg.Anm!I68)","v":""},{"$f":"IF(endg.Anm!J68=\"\",\"\",endg.Anm!J68)","v":""}]
[{"$f":"IF(endg.Anm!B69=\"\",\"\",endg.Anm!$G$5)","v":""},{"$f":"IF(endg.Anm!B69=\"\",\"\",endg.Anm!$C$5)","v":""},{"$f":"IF(endg.Anm!B69=\"\",\"\",endg.Anm!B69)","v":""},{"$f":"IF(endg.Anm!C69=\"\",\"\",endg.Anm!C69)","v":""},{"$f":"IF(endg.Anm!D69=\"\",\"\",endg.Anm!D69)","v":""},{"$f":"IF(endg.Anm!E69=\"\",\"\",endg.Anm!E69)","v":""},{"$f":"IF(endg.Anm!F69=\"\",\"\",endg.Anm!F69)","v":" "},{"$f":"IF(endg.Anm!G69=\"\",\"\",endg.Anm!G69)","v":""},{"$f":"IF(H62=\"B\",\"\",IF(endg.Anm!H69=\"\",\"\",endg.Anm!H69))","v":""},{"$f":"IF(endg.Anm!I69=\"\",\"\",endg.Anm!I69)","v":""},{"$f":"IF(endg.Anm!J69=\"\",\"\",endg.Anm!J69)","v":""}]
[{"$f":"IF(endg.Anm!B70=\"\",\"\",endg.Anm!$G$5)","v":""},{"$f":"IF(endg.Anm!B70=\"\",\"\",endg.Anm!$C$5)","v":""},{"$f":"IF(endg.Anm!B70=\"\",\"\",endg.Anm!B70)","v":""},{"$f":"IF(endg.Anm!C70=\"\",\"\",endg.Anm!C70)","v":""},{"$f":"IF(endg.Anm!D70=\"\",\"\",endg.Anm!D70)","v":""},{"$f":"IF(endg.Anm!E70=\"\",\"\",endg.Anm!E70)","v":""},{"$f":"IF(endg.Anm!F70=\"\",\"\",endg.Anm!F70)","v":" "},{"$f":"IF(endg.Anm!G70=\"\",\"\",endg.Anm!G70)","v":""},{"$f":"IF(H63=\"B\",\"\",IF(endg.Anm!H70=\"\",\"\",endg.Anm!H70))","v":""},{"$f":"IF(endg.Anm!I70=\"\",\"\",endg.Anm!I70)","v":""},{"$f":"IF(endg.Anm!J70=\"\",\"\",endg.Anm!J70)","v":""}]
[{"$f":"IF(endg.Anm!B71=\"\",\"\",endg.Anm!$G$5)","v":""},{"$f":"IF(endg.Anm!B71=\"\",\"\",endg.Anm!$C$5)","v":""},{"$f":"IF(endg.Anm!B71=\"\",\"\",endg.Anm!B71)","v":""},{"$f":"IF(endg.Anm!C71=\"\",\"\",endg.Anm!C71)","v":""},{"$f":"IF(endg.Anm!D71=\"\",\"\",endg.Anm!D71)","v":""},{"$f":"IF(endg.Anm!E71=\"\",\"\",endg.Anm!E71)","v":""},{"$f":"IF(endg.Anm!F71=\"\",\"\",endg.Anm!F71)","v":" "},{"$f":"IF(endg.Anm!G71=\"\",\"\",endg.Anm!G71)","v":""},{"$f":"IF(H64=\"B\",\"\",IF(endg.Anm!H71=\"\",\"\",endg.Anm!H71))","v":""},{"$f":"IF(endg.Anm!I71=\"\",\"\",endg.Anm!I71)","v":""},{"$f":"IF(endg.Anm!J71=\"\",\"\",endg.Anm!J71)","v":""}]
[{"$f":"IF(endg.Anm!B72=\"\",\"\",endg.Anm!$G$5)","v":""},{"$f":"IF(endg.Anm!B72=\"\",\"\",endg.Anm!$C$5)","v":""},{"$f":"IF(endg.Anm!B72=\"\",\"\",endg.Anm!B72)","v":""},{"$f":"IF(endg.Anm!C72=\"\",\"\",endg.Anm!C72)","v":""},{"$f":"IF(endg.Anm!D72=\"\",\"\",endg.Anm!D72)","v":""},{"$f":"IF(endg.Anm!E72=\"\",\"\",endg.Anm!E72)","v":""},{"$f":"IF(endg.Anm!F72=\"\",\"\",endg.Anm!F72)","v":" "},{"$f":"IF(endg.Anm!G72=\"\",\"\",endg.Anm!G72)","v":""},{"$f":"IF(H65=\"B\",\"\",IF(endg.Anm!H72=\"\",\"\",endg.Anm!H72))","v":""},{"$f":"IF(endg.Anm!I72=\"\",\"\",endg.Anm!I72)","v":""},{"$f":"IF(endg.Anm!J72=\"\",\"\",endg.Anm!J72)","v":""}]
[{"$f":"IF(endg.Anm!B73=\"\",\"\",endg.Anm!$G$5)","v":""},{"$f":"IF(endg.Anm!B73=\"\",\"\",endg.Anm!$C$5)","v":""},{"$f":"IF(endg.Anm!B73=\"\",\"\",endg.Anm!B73)","v":""},{"$f":"IF(endg.Anm!C73=\"\",\"\",endg.Anm!C73)","v":""},{"$f":"IF(endg.Anm!D73=\"\",\"\",endg.Anm!D73)","v":""},{"$f":"IF(endg.Anm!E73=\"\",\"\",endg.Anm!E73)","v":""},{"$f":"IF(endg.Anm!F73=\"\",\"\",endg.Anm!F73)","v":" "},{"$f":"IF(endg.Anm!G73=\"\",\"\",endg.Anm!G73)","v":""},{"$f":"IF(H66=\"B\",\"\",IF(endg.Anm!H73=\"\",\"\",endg.Anm!H73))","v":""},{"$f":"IF(endg.Anm!I73=\"\",\"\",endg.Anm!I73)","v":""},{"$f":"IF(endg.Anm!J73=\"\",\"\",endg.Anm!J73)","v":""}]
[{"$f":"IF(endg.Anm!B74=\"\",\"\",endg.Anm!$G$5)","v":""},{"$f":"IF(endg.Anm!B74=\"\",\"\",endg.Anm!$C$5)","v":""},{"$f":"IF(endg.Anm!B74=\"\",\"\",endg.Anm!B74)","v":""},{"$f":"IF(endg.Anm!C74=\"\",\"\",endg.Anm!C74)","v":""},{"$f":"IF(endg.Anm!D74=\"\",\"\",endg.Anm!D74)","v":""},{"$f":"IF(endg.Anm!E74=\"\",\"\",endg.Anm!E74)","v":""},{"$f":"IF(endg.Anm!F74=\"\",\"\",endg.Anm!F74)","v":" "},{"$f":"IF(endg.Anm!G74=\"\",\"\",endg.Anm!G74)","v":""},{"$f":"IF(H67=\"B\",\"\",IF(endg.Anm!H74=\"\",\"\",endg.Anm!H74))","v":""},{"$f":"IF(endg.Anm!I74=\"\",\"\",endg.Anm!I74)","v":""},{"$f":"IF(endg.Anm!J74=\"\",\"\",endg.Anm!J74)","v":""}]
[{"$f":"IF(endg.Anm!B75=\"\",\"\",endg.Anm!$G$5)","v":""},{"$f":"IF(endg.Anm!B75=\"\",\"\",endg.Anm!$C$5)","v":""},{"$f":"IF(endg.Anm!B75=\"\",\"\",endg.Anm!B75)","v":""},{"$f":"IF(endg.Anm!C75=\"\",\"\",endg.Anm!C75)","v":""},{"$f":"IF(endg.Anm!D75=\"\",\"\",endg.Anm!D75)","v":""},{"$f":"IF(endg.Anm!E75=\"\",\"\",endg.Anm!E75)","v":""},{"$f":"IF(endg.Anm!F75=\"\",\"\",endg.Anm!F75)","v":" "},{"$f":"IF(endg.Anm!G75=\"\",\"\",endg.Anm!G75)","v":""},{"$f":"IF(H68=\"B\",\"\",IF(endg.Anm!H75=\"\",\"\",endg.Anm!H75))","v":""},{"$f":"IF(endg.Anm!I75=\"\",\"\",endg.Anm!I75)","v":""},{"$f":"IF(endg.Anm!J75=\"\",\"\",endg.Anm!J75)","v":""}]
[{"$f":"IF(endg.Anm!B76=\"\",\"\",endg.Anm!$G$5)","v":""},{"$f":"IF(endg.Anm!B76=\"\",\"\",endg.Anm!$C$5)","v":""},{"$f":"IF(endg.Anm!B76=\"\",\"\",endg.Anm!B76)","v":""},{"$f":"IF(endg.Anm!C76=\"\",\"\",endg.Anm!C76)","v":""},{"$f":"IF(endg.Anm!D76=\"\",\"\",endg.Anm!D76)","v":""},{"$f":"IF(endg.Anm!E76=\"\",\"\",endg.Anm!E76)","v":""},{"$f":"IF(endg.Anm!F76=\"\",\"\",endg.Anm!F76)","v":" "},{"$f":"IF(endg.Anm!G76=\"\",\"\",endg.Anm!G76)","v":""},{"$f":"IF(H69=\"B\",\"\",IF(endg.Anm!H76=\"\",\"\",endg.Anm!H76))","v":""},{"$f":"IF(endg.Anm!I76=\"\",\"\",endg.Anm!I76)","v":""},{"$f":"IF(endg.Anm!J76=\"\",\"\",endg.Anm!J76)","v":""}]
[{"$f":"IF(endg.Anm!B77=\"\",\"\",endg.Anm!$G$5)","v":""},{"$f":"IF(endg.Anm!B77=\"\",\"\",endg.Anm!$C$5)","v":""},{"$f":"IF(endg.Anm!B77=\"\",\"\",endg.Anm!B77)","v":""},{"$f":"IF(endg.Anm!C77=\"\",\"\",endg.Anm!C77)","v":""},{"$f":"IF(endg.Anm!D77=\"\",\"\",endg.Anm!D77)","v":""},{"$f":"IF(endg.Anm!E77=\"\",\"\",endg.Anm!E77)","v":""},{"$f":"IF(endg.Anm!F77=\"\",\"\",endg.Anm!F77)","v":" "},{"$f":"IF(endg.Anm!G77=\"\",\"\",endg.Anm!G77)","v":""},{"$f":"IF(H70=\"B\",\"\",IF(endg.Anm!H77=\"\",\"\",endg.Anm!H77))","v":""},{"$f":"IF(endg.Anm!I77=\"\",\"\",endg.Anm!I77)","v":""},{"$f":"IF(endg.Anm!J77=\"\",\"\",endg.Anm!J77)","v":""}]
[{"$f":"IF(endg.Anm!B78=\"\",\"\",endg.Anm!$G$5)","v":""},{"$f":"IF(endg.Anm!B78=\"\",\"\",endg.Anm!$C$5)","v":""},{"$f":"IF(endg.Anm!B78=\"\",\"\",endg.Anm!B78)","v":""},{"$f":"IF(endg.Anm!C78=\"\",\"\",endg.Anm!C78)","v":""},{"$f":"IF(endg.Anm!D78=\"\",\"\",endg.Anm!D78)","v":""},{"$f":"IF(endg.Anm!E78=\"\",\"\",endg.Anm!E78)","v":""},{"$f":"IF(endg.Anm!F78=\"\",\"\",endg.Anm!F78)","v":" "},{"$f":"IF(endg.Anm!G78=\"\",\"\",endg.Anm!G78)","v":""},{"$f":"IF(H71=\"B\",\"\",IF(endg.Anm!H78=\"\",\"\",endg.Anm!H78))","v":""},{"$f":"IF(endg.Anm!I78=\"\",\"\",endg.Anm!I78)","v":""},{"$f":"IF(endg.Anm!J78=\"\",\"\",endg.Anm!J78)","v":""}]
[{"$f":"IF(endg.Anm!B79=\"\",\"\",endg.Anm!$G$5)","v":""},{"$f":"IF(endg.Anm!B79=\"\",\"\",endg.Anm!$C$5)","v":""},{"$f":"IF(endg.Anm!B79=\"\",\"\",endg.Anm!B79)","v":""},{"$f":"IF(endg.Anm!C79=\"\",\"\",endg.Anm!C79)","v":""},{"$f":"IF(endg.Anm!D79=\"\",\"\",endg.Anm!D79)","v":""},{"$f":"IF(endg.Anm!E79=\"\",\"\",endg.Anm!E79)","v":""},{"$f":"IF(endg.Anm!F79=\"\",\"\",endg.Anm!F79)","v":" "},{"$f":"IF(endg.Anm!G79=\"\",\"\",endg.Anm!G79)","v":""},{"$f":"IF(H72=\"B\",\"\",IF(endg.Anm!H79=\"\",\"\",endg.Anm!H79))","v":""},{"$f":"IF(endg.Anm!I79=\"\",\"\",endg.Anm!I79)","v":""},{"$f":"IF(endg.Anm!J79=\"\",\"\",endg.Anm!J79)","v":""}]
[{"$f":"IF(endg.Anm!B80=\"\",\"\",endg.Anm!$G$5)","v":""},{"$f":"IF(endg.Anm!B80=\"\",\"\",endg.Anm!$C$5)","v":""},{"$f":"IF(endg.Anm!B80=\"\",\"\",endg.Anm!B80)","v":""},{"$f":"IF(endg.Anm!C80=\"\",\"\",endg.Anm!C80)","v":""},{"$f":"IF(endg.Anm!D80=\"\",\"\",endg.Anm!D80)","v":""},{"$f":"IF(endg.Anm!E80=\"\",\"\",endg.Anm!E80)","v":""},{"$f":"IF(endg.Anm!F80=\"\",\"\",endg.Anm!F80)","v":" "},{"$f":"IF(endg.Anm!G80=\"\",\"\",endg.Anm!G80)","v":""},{"$f":"IF(H73=\"B\",\"\",IF(endg.Anm!H80=\"\",\"\",endg.Anm!H80))","v":""},{"$f":"IF(endg.Anm!I80=\"\",\"\",endg.Anm!I80)","v":""},{"$f":"IF(endg.Anm!J80=\"\",\"\",endg.Anm!J80)","v":""}]
[{"$f":"IF(endg.Anm!B81=\"\",\"\",endg.Anm!$G$5)","v":""},{"$f":"IF(endg.Anm!B81=\"\",\"\",endg.Anm!$C$5)","v":""},{"$f":"IF(endg.Anm!B81=\"\",\"\",endg.Anm!B81)","v":""},{"$f":"IF(endg.Anm!C81=\"\",\"\",endg.Anm!C81)","v":""},{"$f":"IF(endg.Anm!D81=\"\",\"\",endg.Anm!D81)","v":""},{"$f":"IF(endg.Anm!E81=\"\",\"\",endg.Anm!E81)","v":""},{"$f":"IF(endg.Anm!F81=\"\",\"\",endg.Anm!F81)","v":" "},{"$f":"IF(endg.Anm!G81=\"\",\"\",endg.Anm!G81)","v":""},{"$f":"IF(H74=\"B\",\"\",IF(endg.Anm!H81=\"\",\"\",endg.Anm!H81))","v":""},{"$f":"IF(endg.Anm!I81=\"\",\"\",endg.Anm!I81)","v":""},{"$f":"IF(endg.Anm!J81=\"\",\"\",endg.Anm!J81)","v":""}]
[{"$f":"IF(endg.Anm!B82=\"\",\"\",endg.Anm!$G$5)","v":""},{"$f":"IF(endg.Anm!B82=\"\",\"\",endg.Anm!$C$5)","v":""},{"$f":"IF(endg.Anm!B82=\"\",\"\",endg.Anm!B82)","v":""},{"$f":"IF(endg.Anm!C82=\"\",\"\",endg.Anm!C82)","v":""},{"$f":"IF(endg.Anm!D82=\"\",\"\",endg.Anm!D82)","v":""},{"$f":"IF(endg.Anm!E82=\"\",\"\",endg.Anm!E82)","v":""},{"$f":"IF(endg.Anm!F82=\"\",\"\",endg.Anm!F82)","v":" "},{"$f":"IF(endg.Anm!G82=\"\",\"\",endg.Anm!G82)","v":""},{"$f":"IF(H75=\"B\",\"\",IF(endg.Anm!H82=\"\",\"\",endg.Anm!H82))","v":""},{"$f":"IF(endg.Anm!I82=\"\",\"\",endg.Anm!I82)","v":""},{"$f":"IF(endg.Anm!J82=\"\",\"\",endg.Anm!J82)","v":""}]
[{"$f":"IF(endg.Anm!B83=\"\",\"\",endg.Anm!$G$5)","v":""},{"$f":"IF(endg.Anm!B83=\"\",\"\",endg.Anm!$C$5)","v":""},{"$f":"IF(endg.Anm!B83=\"\",\"\",endg.Anm!B83)","v":""},{"$f":"IF(endg.Anm!C83=\"\",\"\",endg.Anm!C83)","v":""},{"$f":"IF(endg.Anm!D83=\"\",\"\",endg.Anm!D83)","v":""},{"$f":"IF(endg.Anm!E83=\"\",\"\",endg.Anm!E83)","v":""},{"$f":"IF(endg.Anm!F83=\"\",\"\",endg.Anm!F83)","v":" "},{"$f":"IF(endg.Anm!G83=\"\",\"\",endg.Anm!G83)","v":""},{"$f":"IF(H76=\"B\",\"\",IF(endg.Anm!H83=\"\",\"\",endg.Anm!H83))","v":""},{"$f":"IF(endg.Anm!I83=\"\",\"\",endg.Anm!I83)","v":""},{"$f":"IF(endg.Anm!J83=\"\",\"\",endg.Anm!J83)","v":""}]
[{"$f":"IF(endg.Anm!B84=\"\",\"\",endg.Anm!$G$5)","v":""},{"$f":"IF(endg.Anm!B84=\"\",\"\",endg.Anm!$C$5)","v":""},{"$f":"IF(endg.Anm!B84=\"\",\"\",endg.Anm!B84)","v":""},{"$f":"IF(endg.Anm!C84=\"\",\"\",endg.Anm!C84)","v":""},{"$f":"IF(endg.Anm!D84=\"\",\"\",endg.Anm!D84)","v":""},{"$f":"IF(endg.Anm!E84=\"\",\"\",endg.Anm!E84)","v":""},{"$f":"IF(endg.Anm!F84=\"\",\"\",endg.Anm!F84)","v":" "},{"$f":"IF(endg.Anm!G84=\"\",\"\",endg.Anm!G84)","v":""},{"$f":"IF(H77=\"B\",\"\",IF(endg.Anm!H84=\"\",\"\",endg.Anm!H84))","v":""},{"$f":"IF(endg.Anm!I84=\"\",\"\",endg.Anm!I84)","v":""},{"$f":"IF(endg.Anm!J84=\"\",\"\",endg.Anm!J84)","v":""}]
[{"$f":"IF(endg.Anm!B85=\"\",\"\",endg.Anm!$G$5)","v":""},{"$f":"IF(endg.Anm!B85=\"\",\"\",endg.Anm!$C$5)","v":""},{"$f":"IF(endg.Anm!B85=\"\",\"\",endg.Anm!B85)","v":""},{"$f":"IF(endg.Anm!C85=\"\",\"\",endg.Anm!C85)","v":""},{"$f":"IF(endg.Anm!D85=\"\",\"\",endg.Anm!D85)","v":""},{"$f":"IF(endg.Anm!E85=\"\",\"\",endg.Anm!E85)","v":""},{"$f":"IF(endg.Anm!F85=\"\",\"\",endg.Anm!F85)","v":" "},{"$f":"IF(endg.Anm!G85=\"\",\"\",endg.Anm!G85)","v":""},{"$f":"IF(H78=\"B\",\"\",IF(endg.Anm!H85=\"\",\"\",endg.Anm!H85))","v":""},{"$f":"IF(endg.Anm!I85=\"\",\"\",endg.Anm!I85)","v":""},{"$f":"IF(endg.Anm!J85=\"\",\"\",endg.Anm!J85)","v":""}]
[{"$f":"IF(endg.Anm!B86=\"\",\"\",endg.Anm!$G$5)","v":""},{"$f":"IF(endg.Anm!B86=\"\",\"\",endg.Anm!$C$5)","v":""},{"$f":"IF(endg.Anm!B86=\"\",\"\",endg.Anm!B86)","v":""},{"$f":"IF(endg.Anm!C86=\"\",\"\",endg.Anm!C86)","v":""},{"$f":"IF(endg.Anm!D86=\"\",\"\",endg.Anm!D86)","v":""},{"$f":"IF(endg.Anm!E86=\"\",\"\",endg.Anm!E86)","v":""},{"$f":"IF(endg.Anm!F86=\"\",\"\",endg.Anm!F86)","v":" "},{"$f":"IF(endg.Anm!G86=\"\",\"\",endg.Anm!G86)","v":""},{"$f":"IF(H79=\"B\",\"\",IF(endg.Anm!H86=\"\",\"\",endg.Anm!H86))","v":""},{"$f":"IF(endg.Anm!I86=\"\",\"\",endg.Anm!I86)","v":""},{"$f":"IF(endg.Anm!J86=\"\",\"\",endg.Anm!J86)","v":""}]
[{"$f":"IF(endg.Anm!B87=\"\",\"\",endg.Anm!$G$5)","v":""},{"$f":"IF(endg.Anm!B87=\"\",\"\",endg.Anm!$C$5)","v":""},{"$f":"IF(endg.Anm!B87=\"\",\"\",endg.Anm!B87)","v":""},{"$f":"IF(endg.Anm!C87=\"\",\"\",endg.Anm!C87)","v":""},{"$f":"IF(endg.Anm!D87=\"\",\"\",endg.Anm!D87)","v":""},{"$f":"IF(endg.Anm!E87=\"\",\"\",endg.Anm!E87)","v":""},{"$f":"IF(endg.Anm!F87=\"\",\"\",endg.Anm!F87)","v":" "},{"$f":"IF(endg.Anm!G87=\"\",\"\",endg.Anm!G87)","v":""},{"$f":"IF(H80=\"B\",\"\",IF(endg.Anm!H87=\"\",\"\",endg.Anm!H87))","v":""},{"$f":"IF(endg.Anm!I87=\"\",\"\",endg.Anm!I87)","v":""},{"$f":"IF(endg.Anm!J87=\"\",\"\",endg.Anm!J87)","v":""}]
[{"$f":"IF(endg.Anm!B88=\"\",\"\",endg.Anm!$G$5)","v":""},{"$f":"IF(endg.Anm!B88=\"\",\"\",endg.Anm!$C$5)","v":""},{"$f":"IF(endg.Anm!B88=\"\",\"\",endg.Anm!B88)","v":""},{"$f":"IF(endg.Anm!C88=\"\",\"\",endg.Anm!C88)","v":""},{"$f":"IF(endg.Anm!D88=\"\",\"\",endg.Anm!D88)","v":""},{"$f":"IF(endg.Anm!E88=\"\",\"\",endg.Anm!E88)","v":""},{"$f":"IF(endg.Anm!F88=\"\",\"\",endg.Anm!F88)","v":" "},{"$f":"IF(endg.Anm!G88=\"\",\"\",endg.Anm!G88)","v":""},{"$f":"IF(H81=\"B\",\"\",IF(endg.Anm!H88=\"\",\"\",endg.Anm!H88))","v":""},{"$f":"IF(endg.Anm!I88=\"\",\"\",endg.Anm!I88)","v":""},{"$f":"IF(endg.Anm!J88=\"\",\"\",endg.Anm!J88)","v":""}]
[{"$f":"IF(endg.Anm!B89=\"\",\"\",endg.Anm!$G$5)","v":""},{"$f":"IF(endg.Anm!B89=\"\",\"\",endg.Anm!$C$5)","v":""},{"$f":"IF(endg.Anm!B89=\"\",\"\",endg.Anm!B89)","v":""},{"$f":"IF(endg.Anm!C89=\"\",\"\",endg.Anm!C89)","v":""},{"$f":"IF(endg.Anm!D89=\"\",\"\",endg.Anm!D89)","v":""},{"$f":"IF(endg.Anm!E89=\"\",\"\",endg.Anm!E89)","v":""},{"$f":"IF(endg.Anm!F89=\"\",\"\",endg.Anm!F89)","v":" "},{"$f":"IF(endg.Anm!G89=\"\",\"\",endg.Anm!G89)","v":""},{"$f":"IF(H82=\"B\",\"\",IF(endg.Anm!H89=\"\",\"\",endg.Anm!H89))","v":""},{"$f":"IF(endg.Anm!I89=\"\",\"\",endg.Anm!I89)","v":""},{"$f":"IF(endg.Anm!J89=\"\",\"\",endg.Anm!J89)","v":""}]
[{"$f":"IF(endg.Anm!B90=\"\",\"\",endg.Anm!$G$5)","v":""},{"$f":"IF(endg.Anm!B90=\"\",\"\",endg.Anm!$C$5)","v":""},{"$f":"IF(endg.Anm!B90=\"\",\"\",endg.Anm!B90)","v":""},{"$f":"IF(endg.Anm!C90=\"\",\"\",endg.Anm!C90)","v":""},{"$f":"IF(endg.Anm!D90=\"\",\"\",endg.Anm!D90)","v":""},{"$f":"IF(endg.Anm!E90=\"\",\"\",endg.Anm!E90)","v":""},{"$f":"IF(endg.Anm!F90=\"\",\"\",endg.Anm!F90)","v":" "},{"$f":"IF(endg.Anm!G90=\"\",\"\",endg.Anm!G90)","v":""},{"$f":"IF(H83=\"B\",\"\",IF(endg.Anm!H90=\"\",\"\",endg.Anm!H90))","v":""},{"$f":"IF(endg.Anm!I90=\"\",\"\",endg.Anm!I90)","v":""},{"$f":"IF(endg.Anm!J90=\"\",\"\",endg.Anm!J90)","v":""}]
[{"$f":"IF(endg.Anm!B91=\"\",\"\",endg.Anm!$G$5)","v":""},{"$f":"IF(endg.Anm!B91=\"\",\"\",endg.Anm!$C$5)","v":""},{"$f":"IF(endg.Anm!B91=\"\",\"\",endg.Anm!B91)","v":""},{"$f":"IF(endg.Anm!C91=\"\",\"\",endg.Anm!C91)","v":""},{"$f":"IF(endg.Anm!D91=\"\",\"\",endg.Anm!D91)","v":""},{"$f":"IF(endg.Anm!E91=\"\",\"\",endg.Anm!E91)","v":""},{"$f":"IF(endg.Anm!F91=\"\",\"\",endg.Anm!F91)","v":" "},{"$f":"IF(endg.Anm!G91=\"\",\"\",endg.Anm!G91)","v":""},{"$f":"IF(H84=\"B\",\"\",IF(endg.Anm!H91=\"\",\"\",endg.Anm!H91))","v":""},{"$f":"IF(endg.Anm!I91=\"\",\"\",endg.Anm!I91)","v":""},{"$f":"IF(endg.Anm!J91=\"\",\"\",endg.Anm!J91)","v":""}]
[{"$f":"IF(endg.Anm!B92=\"\",\"\",endg.Anm!$G$5)","v":""},{"$f":"IF(endg.Anm!B92=\"\",\"\",endg.Anm!$C$5)","v":""},{"$f":"IF(endg.Anm!B92=\"\",\"\",endg.Anm!B92)","v":""},{"$f":"IF(endg.Anm!C92=\"\",\"\",endg.Anm!C92)","v":""},{"$f":"IF(endg.Anm!D92=\"\",\"\",endg.Anm!D92)","v":""},{"$f":"IF(endg.Anm!E92=\"\",\"\",endg.Anm!E92)","v":""},{"$f":"IF(endg.Anm!F92=\"\",\"\",endg.Anm!F92)","v":" "},{"$f":"IF(endg.Anm!G92=\"\",\"\",endg.Anm!G92)","v":""},{"$f":"IF(H85=\"B\",\"\",IF(endg.Anm!H92=\"\",\"\",endg.Anm!H92))","v":""},{"$f":"IF(endg.Anm!I92=\"\",\"\",endg.Anm!I92)","v":""},{"$f":"IF(endg.Anm!J92=\"\",\"\",endg.Anm!J92)","v":""}]
[{"$f":"IF(endg.Anm!B93=\"\",\"\",endg.Anm!$G$5)","v":""},{"$f":"IF(endg.Anm!B93=\"\",\"\",endg.Anm!$C$5)","v":""},{"$f":"IF(endg.Anm!B93=\"\",\"\",endg.Anm!B93)","v":""},{"$f":"IF(endg.Anm!C93=\"\",\"\",endg.Anm!C93)","v":""},{"$f":"IF(endg.Anm!D93=\"\",\"\",endg.Anm!D93)","v":""},{"$f":"IF(endg.Anm!E93=\"\",\"\",endg.Anm!E93)","v":""},{"$f":"IF(endg.Anm!F93=\"\",\"\",endg.Anm!F93)","v":" "},{"$f":"IF(endg.Anm!G93=\"\",\"\",endg.Anm!G93)","v":""},{"$f":"IF(H86=\"B\",\"\",IF(endg.Anm!H93=\"\",\"\",endg.Anm!H93))","v":""},{"$f":"IF(endg.Anm!I93=\"\",\"\",endg.Anm!I93)","v":""},{"$f":"IF(endg.Anm!J93=\"\",\"\",endg.Anm!J93)","v":""}]
[{"$f":"IF(endg.Anm!B94=\"\",\"\",endg.Anm!$G$5)","v":""},{"$f":"IF(endg.Anm!B94=\"\",\"\",endg.Anm!$C$5)","v":""},{"$f":"IF(endg.Anm!B94=\"\",\"\",endg.Anm!B94)","v":""},{"$f":"IF(endg.Anm!C94=\"\",\"\",endg.Anm!C94)","v":""},{"$f":"IF(endg.Anm!D94=\"\",\"\",endg.Anm!D94)","v":""},{"$f":"IF(endg.Anm!E94=\"\",\"\",endg.Anm!E94)","v":""},{"$f":"IF(endg.Anm!F94=\"\",\"\",endg.Anm!F94)","v":" "},{"$f":"IF(endg.Anm!G94=\"\",\"\",endg.Anm!G94)","v":""},{"$f":"IF(H87=\"B\",\"\",IF(endg.Anm!H94=\"\",\"\",endg.Anm!H94))","v":""},{"$f":"IF(endg.Anm!I94=\"\",\"\",endg.Anm!I94)","v":""},{"$f":"IF(endg.Anm!J94=\"\",\"\",endg.Anm!J94)","v":""}]
[{"$f":"IF(endg.Anm!B95=\"\",\"\",endg.Anm!$G$5)","v":""},{"$f":"IF(endg.Anm!B95=\"\",\"\",endg.Anm!$C$5)","v":""},{"$f":"IF(endg.Anm!B95=\"\",\"\",endg.Anm!B95)","v":""},{"$f":"IF(endg.Anm!C95=\"\",\"\",endg.Anm!C95)","v":""},{"$f":"IF(endg.Anm!D95=\"\",\"\",endg.Anm!D95)","v":""},{"$f":"IF(endg.Anm!E95=\"\",\"\",endg.Anm!E95)","v":""},{"$f":"IF(endg.Anm!F95=\"\",\"\",endg.Anm!F95)","v":" "},{"$f":"IF(endg.Anm!G95=\"\",\"\",endg.Anm!G95)","v":""},{"$f":"IF(H88=\"B\",\"\",IF(endg.Anm!H95=\"\",\"\",endg.Anm!H95))","v":""},{"$f":"IF(endg.Anm!I95=\"\",\"\",endg.Anm!I95)","v":""},{"$f":"IF(endg.Anm!J95=\"\",\"\",endg.Anm!J95)","v":""}]
[{"$f":"IF(endg.Anm!B96=\"\",\"\",endg.Anm!$G$5)","v":""},{"$f":"IF(endg.Anm!B96=\"\",\"\",endg.Anm!$C$5)","v":""},{"$f":"IF(endg.Anm!B96=\"\",\"\",endg.Anm!B96)","v":""},{"$f":"IF(endg.Anm!C96=\"\",\"\",endg.Anm!C96)","v":""},{"$f":"IF(endg.Anm!D96=\"\",\"\",endg.Anm!D96)","v":""},{"$f":"IF(endg.Anm!E96=\"\",\"\",endg.Anm!E96)","v":""},{"$f":"IF(endg.Anm!F96=\"\",\"\",endg.Anm!F96)","v":" "},{"$f":"IF(endg.Anm!G96=\"\",\"\",endg.Anm!G96)","v":""},{"$f":"IF(H89=\"B\",\"\",IF(endg.Anm!H96=\"\",\"\",endg.Anm!H96))","v":""},{"$f":"IF(endg.Anm!I96=\"\",\"\",endg.Anm!I96)","v":""},{"$f":"IF(endg.Anm!J96=\"\",\"\",endg.Anm!J96)","v":""}]
[{"$f":"IF(endg.Anm!B97=\"\",\"\",endg.Anm!$G$5)","v":""},{"$f":"IF(endg.Anm!B97=\"\",\"\",endg.Anm!$C$5)","v":""},{"$f":"IF(endg.Anm!B97=\"\",\"\",endg.Anm!B97)","v":""},{"$f":"IF(endg.Anm!C97=\"\",\"\",endg.Anm!C97)","v":""},{"$f":"IF(endg.Anm!D97=\"\",\"\",endg.Anm!D97)","v":""},{"$f":"IF(endg.Anm!E97=\"\",\"\",endg.Anm!E97)","v":""},{"$f":"IF(endg.Anm!F97=\"\",\"\",endg.Anm!F97)","v":" "},{"$f":"IF(endg.Anm!G97=\"\",\"\",endg.Anm!G97)","v":""},{"$f":"IF(H90=\"B\",\"\",IF(endg.Anm!H97=\"\",\"\",endg.Anm!H97))","v":""},{"$f":"IF(endg.Anm!I97=\"\",\"\",endg.Anm!I97)","v":""},{"$f":"IF(endg.Anm!J97=\"\",\"\",endg.Anm!J97)","v":""}]
[{"$f":"IF(endg.Anm!B98=\"\",\"\",endg.Anm!$G$5)","v":""},{"$f":"IF(endg.Anm!B98=\"\",\"\",endg.Anm!$C$5)","v":""},{"$f":"IF(endg.Anm!B98=\"\",\"\",endg.Anm!B98)","v":""},{"$f":"IF(endg.Anm!C98=\"\",\"\",endg.Anm!C98)","v":""},{"$f":"IF(endg.Anm!D98=\"\",\"\",endg.Anm!D98)","v":""},{"$f":"IF(endg.Anm!E98=\"\",\"\",endg.Anm!E98)","v":""},{"$f":"IF(endg.Anm!F98=\"\",\"\",endg.Anm!F98)","v":" "},{"$f":"IF(endg.Anm!G98=\"\",\"\",endg.Anm!G98)","v":""},{"$f":"IF(H91=\"B\",\"\",IF(endg.Anm!H98=\"\",\"\",endg.Anm!H98))","v":""},{"$f":"IF(endg.Anm!I98=\"\",\"\",endg.Anm!I98)","v":""},{"$f":"IF(endg.Anm!J98=\"\",\"\",endg.Anm!J98)","v":""}]
[{"$f":"IF(endg.Anm!B99=\"\",\"\",endg.Anm!$G$5)","v":""},{"$f":"IF(endg.Anm!B99=\"\",\"\",endg.Anm!$C$5)","v":""},{"$f":"IF(endg.Anm!B99=\"\",\"\",endg.Anm!B99)","v":""},{"$f":"IF(endg.Anm!C99=\"\",\"\",endg.Anm!C99)","v":""},{"$f":"IF(endg.Anm!D99=\"\",\"\",endg.Anm!D99)","v":""},{"$f":"IF(endg.Anm!E99=\"\",\"\",endg.Anm!E99)","v":""},{"$f":"IF(endg.Anm!F99=\"\",\"\",endg.Anm!F99)","v":" "},{"$f":"IF(endg.Anm!G99=\"\",\"\",endg.Anm!G99)","v":""},{"$f":"IF(H92=\"B\",\"\",IF(endg.Anm!H99=\"\",\"\",endg.Anm!H99))","v":""},{"$f":"IF(endg.Anm!I99=\"\",\"\",endg.Anm!I99)","v":""},{"$f":"IF(endg.Anm!J99=\"\",\"\",endg.Anm!J99)","v":""}]
[{"$f":"IF(endg.Anm!B100=\"\",\"\",endg.Anm!$G$5)","v":""},{"$f":"IF(endg.Anm!B100=\"\",\"\",endg.Anm!$C$5)","v":""},{"$f":"IF(endg.Anm!B100=\"\",\"\",endg.Anm!B100)","v":""},{"$f":"IF(endg.Anm!C100=\"\",\"\",endg.Anm!C100)","v":""},{"$f":"IF(endg.Anm!D100=\"\",\"\",endg.Anm!D100)","v":""},{"$f":"IF(endg.Anm!E100=\"\",\"\",endg.Anm!E100)","v":""},{"$f":"IF(endg.Anm!F100=\"\",\"\",endg.Anm!F100)","v":" "},{"$f":"IF(endg.Anm!G100=\"\",\"\",endg.Anm!G100)","v":""},{"$f":"IF(H93=\"B\",\"\",IF(endg.Anm!H100=\"\",\"\",endg.Anm!H100))","v":""},{"$f":"IF(endg.Anm!I100=\"\",\"\",endg.Anm!I100)","v":""},{"$f":"IF(endg.Anm!J100=\"\",\"\",endg.Anm!J100)","v":""}]
[{"$f":"IF(endg.Anm!B101=\"\",\"\",endg.Anm!$G$5)","v":""},{"$f":"IF(endg.Anm!B101=\"\",\"\",endg.Anm!$C$5)","v":""},{"$f":"IF(endg.Anm!B101=\"\",\"\",endg.Anm!B101)","v":""},{"$f":"IF(endg.Anm!C101=\"\",\"\",endg.Anm!C101)","v":""},{"$f":"IF(endg.Anm!D101=\"\",\"\",endg.Anm!D101)","v":""},{"$f":"IF(endg.Anm!E101=\"\",\"\",endg.Anm!E101)","v":""},{"$f":"IF(endg.Anm!F101=\"\",\"\",endg.Anm!F101)","v":" "},{"$f":"IF(endg.Anm!G101=\"\",\"\",endg.Anm!G101)","v":""},{"$f":"IF(H94=\"B\",\"\",IF(endg.Anm!H101=\"\",\"\",endg.Anm!H101))","v":""},{"$f":"IF(endg.Anm!I101=\"\",\"\",endg.Anm!I101)","v":""},{"$f":"IF(endg.Anm!J101=\"\",\"\",endg.Anm!J101)","v":""}]
[{"$f":"IF(endg.Anm!B102=\"\",\"\",endg.Anm!$G$5)","v":""},{"$f":"IF(endg.Anm!B102=\"\",\"\",endg.Anm!$C$5)","v":""},{"$f":"IF(endg.Anm!B102=\"\",\"\",endg.Anm!B102)","v":""},{"$f":"IF(endg.Anm!C102=\"\",\"\",endg.Anm!C102)","v":""},{"$f":"IF(endg.Anm!D102=\"\",\"\",endg.Anm!D102)","v":""},{"$f":"IF(endg.Anm!E102=\"\",\"\",endg.Anm!E102)","v":""},{"$f":"IF(endg.Anm!F102=\"\",\"\",endg.Anm!F102)","v":" "},{"$f":"IF(endg.Anm!G102=\"\",\"\",endg.Anm!G102)","v":""},{"$f":"IF(H95=\"B\",\"\",IF(endg.Anm!H102=\"\",\"\",endg.Anm!H102))","v":""},{"$f":"IF(endg.Anm!I102=\"\",\"\",endg.Anm!I102)","v":""},{"$f":"IF(endg.Anm!J102=\"\",\"\",endg.Anm!J102)","v":""}]
[{"$f":"IF(endg.Anm!B103=\"\",\"\",endg.Anm!$G$5)","v":""},{"$f":"IF(endg.Anm!B103=\"\",\"\",endg.Anm!$C$5)","v":""},{"$f":"IF(endg.Anm!B103=\"\",\"\",endg.Anm!B103)","v":""},{"$f":"IF(endg.Anm!C103=\"\",\"\",endg.Anm!C103)","v":""},{"$f":"IF(endg.Anm!D103=\"\",\"\",endg.Anm!D103)","v":""},{"$f":"IF(endg.Anm!E103=\"\",\"\",endg.Anm!E103)","v":""},{"$f":"IF(endg.Anm!F103=\"\",\"\",endg.Anm!F103)","v":" "},{"$f":"IF(endg.Anm!G103=\"\",\"\",endg.Anm!G103)","v":""},{"$f":"IF(H96=\"B\",\"\",IF(endg.Anm!H103=\"\",\"\",endg.Anm!H103))","v":""},{"$f":"IF(endg.Anm!I103=\"\",\"\",endg.Anm!I103)","v":""},{"$f":"IF(endg.Anm!J103=\"\",\"\",endg.Anm!J103)","v":""}]
[{"$f":"IF(endg.Anm!B104=\"\",\"\",endg.Anm!$G$5)","v":""},{"$f":"IF(endg.Anm!B104=\"\",\"\",endg.Anm!$C$5)","v":""},{"$f":"IF(endg.Anm!B104=\"\",\"\",endg.Anm!B104)","v":""},{"$f":"IF(endg.Anm!C104=\"\",\"\",endg.Anm!C104)","v":""},{"$f":"IF(endg.Anm!D104=\"\",\"\",endg.Anm!D104)","v":""},{"$f":"IF(endg.Anm!E104=\"\",\"\",endg.Anm!E104)","v":""},{"$f":"IF(endg.Anm!F104=\"\",\"\",endg.Anm!F104)","v":" "},{"$f":"IF(endg.Anm!G104=\"\",\"\",endg.Anm!G104)","v":""},{"$f":"IF(H97=\"B\",\"\",IF(endg.Anm!H104=\"\",\"\",endg.Anm!H104))","v":""},{"$f":"IF(endg.Anm!I104=\"\",\"\",endg.Anm!I104)","v":""},{"$f":"IF(endg.Anm!J104=\"\",\"\",endg.Anm!J104)","v":""}]
[{"$f":"IF(endg.Anm!B105=\"\",\"\",endg.Anm!$G$5)","v":""},{"$f":"IF(endg.Anm!B105=\"\",\"\",endg.Anm!$C$5)","v":""},{"$f":"IF(endg.Anm!B105=\"\",\"\",endg.Anm!B105)","v":""},{"$f":"IF(endg.Anm!C105=\"\",\"\",endg.Anm!C105)","v":""},{"$f":"IF(endg.Anm!D105=\"\",\"\",endg.Anm!D105)","v":""},{"$f":"IF(endg.Anm!E105=\"\",\"\",endg.Anm!E105)","v":""},{"$f":"IF(endg.Anm!F105=\"\",\"\",endg.Anm!F105)","v":" "},{"$f":"IF(endg.Anm!G105=\"\",\"\",endg.Anm!G105)","v":""},{"$f":"IF(H98=\"B\",\"\",IF(endg.Anm!H105=\"\",\"\",endg.Anm!H105))","v":""},{"$f":"IF(endg.Anm!I105=\"\",\"\",endg.Anm!I105)","v":""},{"$f":"IF(endg.Anm!J105=\"\",\"\",endg.Anm!J105)","v":""}]
[{"$f":"IF(endg.Anm!B106=\"\",\"\",endg.Anm!$G$5)","v":""},{"$f":"IF(endg.Anm!B106=\"\",\"\",endg.Anm!$C$5)","v":""},{"$f":"IF(endg.Anm!B106=\"\",\"\",endg.Anm!B106)","v":""},{"$f":"IF(endg.Anm!C106=\"\",\"\",endg.Anm!C106)","v":""},{"$f":"IF(endg.Anm!D106=\"\",\"\",endg.Anm!D106)","v":""},{"$f":"IF(endg.Anm!E106=\"\",\"\",endg.Anm!E106)","v":""},{"$f":"IF(endg.Anm!F106=\"\",\"\",endg.Anm!F106)","v":" "},{"$f":"IF(endg.Anm!G106=\"\",\"\",endg.Anm!G106)","v":""},{"$f":"IF(H99=\"B\",\"\",IF(endg.Anm!H106=\"\",\"\",endg.Anm!H106))","v":""},{"$f":"IF(endg.Anm!I106=\"\",\"\",endg.Anm!I106)","v":""},{"$f":"IF(endg.Anm!J106=\"\",\"\",endg.Anm!J106)","v":""}]
[{"$f":"IF(endg.Anm!B107=\"\",\"\",endg.Anm!$G$5)","v":""},{"$f":"IF(endg.Anm!B107=\"\",\"\",endg.Anm!$C$5)","v":""},{"$f":"IF(endg.Anm!B107=\"\",\"\",endg.Anm!B107)","v":""},{"$f":"IF(endg.Anm!C107=\"\",\"\",endg.Anm!C107)","v":""},{"$f":"IF(endg.Anm!D107=\"\",\"\",endg.Anm!D107)","v":""},{"$f":"IF(endg.Anm!E107=\"\",\"\",endg.Anm!E107)","v":""},{"$f":"IF(endg.Anm!F107=\"\",\"\",endg.Anm!F107)","v":" "},{"$f":"IF(endg.Anm!G107=\"\",\"\",endg.Anm!G107)","v":""},{"$f":"IF(H100=\"B\",\"\",IF(endg.Anm!H107=\"\",\"\",endg.Anm!H107))","v":""},{"$f":"IF(endg.Anm!I107=\"\",\"\",endg.Anm!I107)","v":""},{"$f":"IF(endg.Anm!J107=\"\",\"\",endg.Anm!J107)","v":""}]
[{"$f":"IF(endg.Anm!B108=\"\",\"\",endg.Anm!$G$5)","v":""},{"$f":"IF(endg.Anm!B108=\"\",\"\",endg.Anm!$C$5)","v":""},{"$f":"IF(endg.Anm!B108=\"\",\"\",endg.Anm!B108)","v":""},{"$f":"IF(endg.Anm!C108=\"\",\"\",endg.Anm!C108)","v":""},{"$f":"IF(endg.Anm!D108=\"\",\"\",endg.Anm!D108)","v":""},{"$f":"IF(endg.Anm!E108=\"\",\"\",endg.Anm!E108)","v":""},{"$f":"IF(endg.Anm!F108=\"\",\"\",endg.Anm!F108)","v":" "},{"$f":"IF(endg.Anm!G108=\"\",\"\",endg.Anm!G108)","v":""},{"$f":"IF(H101=\"B\",\"\",IF(endg.Anm!H108=\"\",\"\",endg.Anm!H108))","v":""},{"$f":"IF(endg.Anm!I108=\"\",\"\",endg.Anm!I108)","v":""},{"$f":"IF(endg.Anm!J108=\"\",\"\",endg.Anm!J108)","v":""}]
[{"$f":"IF(endg.Anm!B109=\"\",\"\",endg.Anm!$G$5)","v":""},{"$f":"IF(endg.Anm!B109=\"\",\"\",endg.Anm!$C$5)","v":""},{"$f":"IF(endg.Anm!B109=\"\",\"\",endg.Anm!B109)","v":""},{"$f":"IF(endg.Anm!C109=\"\",\"\",endg.Anm!C109)","v":""},{"$f":"IF(endg.Anm!D109=\"\",\"\",endg.Anm!D109)","v":""},{"$f":"IF(endg.Anm!E109=\"\",\"\",endg.Anm!E109)","v":""},{"$f":"IF(endg.Anm!F109=\"\",\"\",endg.Anm!F109)","v":""},{"$f":"IF(endg.Anm!G109=\"\",\"\",endg.Anm!G109)","v":""},{"$f":"IF(H102=\"B\",\"\",IF(endg.Anm!H109=\"\",\"\",endg.Anm!H109))","v":""},{"$f":"IF(endg.Anm!I109=\"\",\"\",endg.Anm!I109)","v":""},{"$f":"IF(endg.Anm!J109=\"\",\"\",endg.Anm!J109)","v":""}]
[{"$f":"IF(endg.Anm!B110=\"\",\"\",endg.Anm!$G$5)","v":""},{"$f":"IF(endg.Anm!B110=\"\",\"\",endg.Anm!$C$5)","v":""},{"$f":"IF(endg.Anm!B110=\"\",\"\",endg.Anm!B110)","v":""},{"$f":"IF(endg.Anm!C110=\"\",\"\",endg.Anm!C110)","v":""},{"$f":"IF(endg.Anm!D110=\"\",\"\",endg.Anm!D110)","v":""},{"$f":"IF(endg.Anm!E110=\"\",\"\",endg.Anm!E110)","v":""},{"$f":"IF(endg.Anm!F110=\"\",\"\",endg.Anm!F110)","v":""},{"$f":"IF(endg.Anm!G110=\"\",\"\",endg.Anm!G110)","v":""},{"$f":"IF(H103=\"B\",\"\",IF(endg.Anm!H110=\"\",\"\",endg.Anm!H110))","v":""},{"$f":"IF(endg.Anm!I110=\"\",\"\",endg.Anm!I110)","v":""},{"$f":"IF(endg.Anm!J110=\"\",\"\",endg.Anm!J110)","v":""}]
[{"$f":"IF(endg.Anm!B111=\"\",\"\",endg.Anm!$G$5)","v":""},{"$f":"IF(endg.Anm!B111=\"\",\"\",endg.Anm!$C$5)","v":""},{"$f":"IF(endg.Anm!B111=\"\",\"\",endg.Anm!B111)","v":""},{"$f":"IF(endg.Anm!C111=\"\",\"\",endg.Anm!C111)","v":""},{"$f":"IF(endg.Anm!D111=\"\",\"\",endg.Anm!D111)","v":""},{"$f":"IF(endg.Anm!E111=\"\",\"\",endg.Anm!E111)","v":""},{"$f":"IF(endg.Anm!F111=\"\",\"\",endg.Anm!F111)","v":""},{"$f":"IF(endg.Anm!G111=\"\",\"\",endg.Anm!G111)","v":""},{"$f":"IF(H104=\"B\",\"\",IF(endg.Anm!H111=\"\",\"\",endg.Anm!H111))","v":""},{"$f":"IF(endg.Anm!I111=\"\",\"\",endg.Anm!I111)","v":""},{"$f":"IF(endg.Anm!J111=\"\",\"\",endg.Anm!J111)","v":""}]
[{"$f":"IF(endg.Anm!B112=\"\",\"\",endg.Anm!$G$5)","v":""},{"$f":"IF(endg.Anm!B112=\"\",\"\",endg.Anm!$C$5)","v":""},{"$f":"IF(endg.Anm!B112=\"\",\"\",endg.Anm!B112)","v":""},{"$f":"IF(endg.Anm!C112=\"\",\"\",endg.Anm!C112)","v":""},{"$f":"IF(endg.Anm!D112=\"\",\"\",endg.Anm!D112)","v":""},{"$f":"IF(endg.Anm!E112=\"\",\"\",endg.Anm!E112)","v":""},{"$f":"IF(endg.Anm!F112=\"\",\"\",endg.Anm!F112)","v":""},{"$f":"IF(endg.Anm!G112=\"\",\"\",endg.Anm!G112)","v":""},{"$f":"IF(H105=\"B\",\"\",IF(endg.Anm!H112=\"\",\"\",endg.Anm!H112))","v":""},{"$f":"IF(endg.Anm!I112=\"\",\"\",endg.Anm!I112)","v":""},{"$f":"IF(endg.Anm!J112=\"\",\"\",endg.Anm!J112)","v":""}]
[{"$f":"IF(endg.Anm!B113=\"\",\"\",endg.Anm!$G$5)","v":""},{"$f":"IF(endg.Anm!B113=\"\",\"\",endg.Anm!$C$5)","v":""},{"$f":"IF(endg.Anm!B113=\"\",\"\",endg.Anm!B113)","v":""},{"$f":"IF(endg.Anm!C113=\"\",\"\",endg.Anm!C113)","v":""},{"$f":"IF(endg.Anm!D113=\"\",\"\",endg.Anm!D113)","v":""},{"$f":"IF(endg.Anm!E113=\"\",\"\",endg.Anm!E113)","v":""},{"$f":"IF(endg.Anm!F113=\"\",\"\",endg.Anm!F113)","v":""},{"$f":"IF(endg.Anm!G113=\"\",\"\",endg.Anm!G113)","v":""},{"$f":"IF(H106=\"B\",\"\",IF(endg.Anm!H113=\"\",\"\",endg.Anm!H113))","v":""},{"$f":"IF(endg.Anm!I113=\"\",\"\",endg.Anm!I113)","v":""},{"$f":"IF(endg.Anm!J113=\"\",\"\",endg.Anm!J113)","v":""}]
[{"$f":"IF(endg.Anm!B114=\"\",\"\",endg.Anm!$G$5)","v":""},{"$f":"IF(endg.Anm!B114=\"\",\"\",endg.Anm!$C$5)","v":""},{"$f":"IF(endg.Anm!B114=\"\",\"\",endg.Anm!B114)","v":""},{"$f":"IF(endg.Anm!C114=\"\",\"\",endg.Anm!C114)","v":""},{"$f":"IF(endg.Anm!D114=\"\",\"\",endg.Anm!D114)","v":""},{"$f":"IF(endg.Anm!E114=\"\",\"\",endg.Anm!E114)","v":""},{"$f":"IF(endg.Anm!F114=\"\",\"\",endg.Anm!F114)","v":""},{"$f":"IF(endg.Anm!G114=\"\",\"\",endg.Anm!G114)","v":""},{"$f":"IF(H107=\"B\",\"\",IF(endg.Anm!H114=\"\",\"\",endg.Anm!H114))","v":""},{"$f":"IF(endg.Anm!I114=\"\",\"\",endg.Anm!I114)","v":""},{"$f":"IF(endg.Anm!J114=\"\",\"\",endg.Anm!J114)","v":""}]
[{"$f":"IF(endg.Anm!B115=\"\",\"\",endg.Anm!$G$5)","v":""},{"$f":"IF(endg.Anm!B115=\"\",\"\",endg.Anm!$C$5)","v":""},{"$f":"IF(endg.Anm!B115=\"\",\"\",endg.Anm!B115)","v":""},{"$f":"IF(endg.Anm!C115=\"\",\"\",endg.Anm!C115)","v":""},{"$f":"IF(endg.Anm!D115=\"\",\"\",endg.Anm!D115)","v":""},{"$f":"IF(endg.Anm!E115=\"\",\"\",endg.Anm!E115)","v":""},{"$f":"IF(endg.Anm!F115=\"\",\"\",endg.Anm!F115)","v":""},{"$f":"IF(endg.Anm!G115=\"\",\"\",endg.Anm!G115)","v":""},{"$f":"IF(H108=\"B\",\"\",IF(endg.Anm!H115=\"\",\"\",endg.Anm!H115))","v":""},{"$f":"IF(endg.Anm!I115=\"\",\"\",endg.Anm!I115)","v":""},{"$f":"IF(endg.Anm!J115=\"\",\"\",endg.Anm!J115)","v":""}]
[{"$f":"IF(endg.Anm!B116=\"\",\"\",endg.Anm!$G$5)","v":""},{"$f":"IF(endg.Anm!B116=\"\",\"\",endg.Anm!$C$5)","v":""},{"$f":"IF(endg.Anm!B116=\"\",\"\",endg.Anm!B116)","v":""},{"$f":"IF(endg.Anm!C116=\"\",\"\",endg.Anm!C116)","v":""},{"$f":"IF(endg.Anm!D116=\"\",\"\",endg.Anm!D116)","v":""},{"$f":"IF(endg.Anm!E116=\"\",\"\",endg.Anm!E116)","v":""},{"$f":"IF(endg.Anm!F116=\"\",\"\",endg.Anm!F116)","v":""},{"$f":"IF(endg.Anm!G116=\"\",\"\",endg.Anm!G116)","v":""},{"$f":"IF(H109=\"B\",\"\",IF(endg.Anm!H116=\"\",\"\",endg.Anm!H116))","v":""},{"$f":"IF(endg.Anm!I116=\"\",\"\",endg.Anm!I116)","v":""},{"$f":"IF(endg.Anm!J116=\"\",\"\",endg.Anm!J116)","v":""}]
[{"$f":"IF(endg.Anm!B117=\"\",\"\",endg.Anm!$G$5)","v":""},{"$f":"IF(endg.Anm!B117=\"\",\"\",endg.Anm!$C$5)","v":""},{"$f":"IF(endg.Anm!B117=\"\",\"\",endg.Anm!B117)","v":""},{"$f":"IF(endg.Anm!C117=\"\",\"\",endg.Anm!C117)","v":""},{"$f":"IF(endg.Anm!D117=\"\",\"\",endg.Anm!D117)","v":""},{"$f":"IF(endg.Anm!E117=\"\",\"\",endg.Anm!E117)","v":""},{"$f":"IF(endg.Anm!F117=\"\",\"\",endg.Anm!F117)","v":""},{"$f":"IF(endg.Anm!G117=\"\",\"\",endg.Anm!G117)","v":""},{"$f":"IF(H110=\"B\",\"\",IF(endg.Anm!H117=\"\",\"\",endg.Anm!H117))","v":""},{"$f":"IF(endg.Anm!I117=\"\",\"\",endg.Anm!I117)","v":""},{"$f":"IF(endg.Anm!J117=\"\",\"\",endg.Anm!J117)","v":""}]
[{"$f":"IF(endg.Anm!B118=\"\",\"\",endg.Anm!$G$5)","v":""},{"$f":"IF(endg.Anm!B118=\"\",\"\",endg.Anm!$C$5)","v":""},{"$f":"IF(endg.Anm!B118=\"\",\"\",endg.Anm!B118)","v":""},{"$f":"IF(endg.Anm!C118=\"\",\"\",endg.Anm!C118)","v":""},{"$f":"IF(endg.Anm!D118=\"\",\"\",endg.Anm!D118)","v":""},{"$f":"IF(endg.Anm!E118=\"\",\"\",endg.Anm!E118)","v":""},{"$f":"IF(endg.Anm!F118=\"\",\"\",endg.Anm!F118)","v":""},{"$f":"IF(endg.Anm!G118=\"\",\"\",endg.Anm!G118)","v":""},{"$f":"IF(H111=\"B\",\"\",IF(endg.Anm!H118=\"\",\"\",endg.Anm!H118))","v":""},{"$f":"IF(endg.Anm!I118=\"\",\"\",endg.Anm!I118)","v":""},{"$f":"IF(endg.Anm!J118=\"\",\"\",endg.Anm!J118)","v":""}]
[{"$f":"IF(endg.Anm!B119=\"\",\"\",endg.Anm!$G$5)","v":""},{"$f":"IF(endg.Anm!B119=\"\",\"\",endg.Anm!$C$5)","v":""},{"$f":"IF(endg.Anm!B119=\"\",\"\",endg.Anm!B119)","v":""},{"$f":"IF(endg.Anm!C119=\"\",\"\",endg.Anm!C119)","v":""},{"$f":"IF(endg.Anm!D119=\"\",\"\",endg.Anm!D119)","v":""},{"$f":"IF(endg.Anm!E119=\"\",\"\",endg.Anm!E119)","v":""},{"$f":"IF(endg.Anm!F119=\"\",\"\",endg.Anm!F119)","v":""},{"$f":"IF(endg.Anm!G119=\"\",\"\",endg.Anm!G119)","v":""},{"$f":"IF(H112=\"B\",\"\",IF(endg.Anm!H119=\"\",\"\",endg.Anm!H119))","v":""},{"$f":"IF(endg.Anm!I119=\"\",\"\",endg.Anm!I119)","v":""},{"$f":"IF(endg.Anm!J119=\"\",\"\",endg.Anm!J119)","v":""}]
[{"$f":"IF(endg.Anm!B120=\"\",\"\",endg.Anm!$G$5)","v":""},{"$f":"IF(endg.Anm!B120=\"\",\"\",endg.Anm!$C$5)","v":""},{"$f":"IF(endg.Anm!B120=\"\",\"\",endg.Anm!B120)","v":""},{"$f":"IF(endg.Anm!C120=\"\",\"\",endg.Anm!C120)","v":""},{"$f":"IF(endg.Anm!D120=\"\",\"\",endg.Anm!D120)","v":""},{"$f":"IF(endg.Anm!E120=\"\",\"\",endg.Anm!E120)","v":""},{"$f":"IF(endg.Anm!F120=\"\",\"\",endg.Anm!F120)","v":""},{"$f":"IF(endg.Anm!G120=\"\",\"\",endg.Anm!G120)","v":""},{"$f":"IF(H113=\"B\",\"\",IF(endg.Anm!H120=\"\",\"\",endg.Anm!H120))","v":""},{"$f":"IF(endg.Anm!I120=\"\",\"\",endg.Anm!I120)","v":""},{"$f":"IF(endg.Anm!J120=\"\",\"\",endg.Anm!J120)","v":""}]
[{"$f":"IF(endg.Anm!B121=\"\",\"\",endg.Anm!$G$5)","v":""},{"$f":"IF(endg.Anm!B121=\"\",\"\",endg.Anm!$C$5)","v":""},{"$f":"IF(endg.Anm!B121=\"\",\"\",endg.Anm!B121)","v":""},{"$f":"IF(endg.Anm!C121=\"\",\"\",endg.Anm!C121)","v":""},{"$f":"IF(endg.Anm!D121=\"\",\"\",endg.Anm!D121)","v":""},{"$f":"IF(endg.Anm!E121=\"\",\"\",endg.Anm!E121)","v":""},{"$f":"IF(endg.Anm!F121=\"\",\"\",endg.Anm!F121)","v":""},{"$f":"IF(endg.Anm!G121=\"\",\"\",endg.Anm!G121)","v":""},{"$f":"IF(H114=\"B\",\"\",IF(endg.Anm!H121=\"\",\"\",endg.Anm!H121))","v":""},{"$f":"IF(endg.Anm!I121=\"\",\"\",endg.Anm!I121)","v":""},{"$f":"IF(endg.Anm!J121=\"\",\"\",endg.Anm!J121)","v":""}]
[{"$f":"IF(endg.Anm!B122=\"\",\"\",endg.Anm!$G$5)","v":""},{"$f":"IF(endg.Anm!B122=\"\",\"\",endg.Anm!$C$5)","v":""},{"$f":"IF(endg.Anm!B122=\"\",\"\",endg.Anm!B122)","v":""},{"$f":"IF(endg.Anm!C122=\"\",\"\",endg.Anm!C122)","v":""},{"$f":"IF(endg.Anm!D122=\"\",\"\",endg.Anm!D122)","v":""},{"$f":"IF(endg.Anm!E122=\"\",\"\",endg.Anm!E122)","v":""},{"$f":"IF(endg.Anm!F122=\"\",\"\",endg.Anm!F122)","v":""},{"$f":"IF(endg.Anm!G122=\"\",\"\",endg.Anm!G122)","v":""},{"$f":"IF(H115=\"B\",\"\",IF(endg.Anm!H122=\"\",\"\",endg.Anm!H122))","v":""},{"$f":"IF(endg.Anm!I122=\"\",\"\",endg.Anm!I122)","v":""},{"$f":"IF(endg.Anm!J122=\"\",\"\",endg.Anm!J122)","v":""}]
[{"$f":"IF(endg.Anm!B123=\"\",\"\",endg.Anm!$G$5)","v":""},{"$f":"IF(endg.Anm!B123=\"\",\"\",endg.Anm!$C$5)","v":""},{"$f":"IF(endg.Anm!B123=\"\",\"\",endg.Anm!B123)","v":""},{"$f":"IF(endg.Anm!C123=\"\",\"\",endg.Anm!C123)","v":""},{"$f":"IF(endg.Anm!D123=\"\",\"\",endg.Anm!D123)","v":""},{"$f":"IF(endg.Anm!E123=\"\",\"\",endg.Anm!E123)","v":""},{"$f":"IF(endg.Anm!F123=\"\",\"\",endg.Anm!F123)","v":""},{"$f":"IF(endg.Anm!G123=\"\",\"\",endg.Anm!G123)","v":""},{"$f":"IF(H116=\"B\",\"\",IF(endg.Anm!H123=\"\",\"\",endg.Anm!H123))","v":""},{"$f":"IF(endg.Anm!I123=\"\",\"\",endg.Anm!I123)","v":""},{"$f":"IF(endg.Anm!J123=\"\",\"\",endg.Anm!J123)","v":""}]
[{"$f":"IF(endg.Anm!B124=\"\",\"\",endg.Anm!$G$5)","v":""},{"$f":"IF(endg.Anm!B124=\"\",\"\",endg.Anm!$C$5)","v":""},{"$f":"IF(endg.Anm!B124=\"\",\"\",endg.Anm!B124)","v":""},{"$f":"IF(endg.Anm!C124=\"\",\"\",endg.Anm!C124)","v":""},{"$f":"IF(endg.Anm!D124=\"\",\"\",endg.Anm!D124)","v":""},{"$f":"IF(endg.Anm!E124=\"\",\"\",endg.Anm!E124)","v":""},{"$f":"IF(endg.Anm!F124=\"\",\"\",endg.Anm!F124)","v":""},{"$f":"IF(endg.Anm!G124=\"\",\"\",endg.Anm!G124)","v":""},{"$f":"IF(H117=\"B\",\"\",IF(endg.Anm!H124=\"\",\"\",endg.Anm!H124))","v":""},{"$f":"IF(endg.Anm!I124=\"\",\"\",endg.Anm!I124)","v":""},{"$f":"IF(endg.Anm!J124=\"\",\"\",endg.Anm!J124)","v":""}]
[{"$f":"IF(endg.Anm!B125=\"\",\"\",endg.Anm!$G$5)","v":""},{"$f":"IF(endg.Anm!B125=\"\",\"\",endg.Anm!$C$5)","v":""},{"$f":"IF(endg.Anm!B125=\"\",\"\",endg.Anm!B125)","v":""},{"$f":"IF(endg.Anm!C125=\"\",\"\",endg.Anm!C125)","v":""},{"$f":"IF(endg.Anm!D125=\"\",\"\",endg.Anm!D125)","v":""},{"$f":"IF(endg.Anm!E125=\"\",\"\",endg.Anm!E125)","v":""},{"$f":"IF(endg.Anm!F125=\"\",\"\",endg.Anm!F125)","v":""},{"$f":"IF(endg.Anm!G125=\"\",\"\",endg.Anm!G125)","v":""},{"$f":"IF(H118=\"B\",\"\",IF(endg.Anm!H125=\"\",\"\",endg.Anm!H125))","v":""},{"$f":"IF(endg.Anm!I125=\"\",\"\",endg.Anm!I125)","v":""},{"$f":"IF(endg.Anm!J125=\"\",\"\",endg.Anm!J125)","v":""}]
[{"$f":"IF(endg.Anm!B126=\"\",\"\",endg.Anm!$G$5)","v":""},{"$f":"IF(endg.Anm!B126=\"\",\"\",endg.Anm!$C$5)","v":""},{"$f":"IF(endg.Anm!B126=\"\",\"\",endg.Anm!B126)","v":""},{"$f":"IF(endg.Anm!C126=\"\",\"\",endg.Anm!C126)","v":""},{"$f":"IF(endg.Anm!D126=\"\",\"\",endg.Anm!D126)","v":""},{"$f":"IF(endg.Anm!E126=\"\",\"\",endg.Anm!E126)","v":""},{"$f":"IF(endg.Anm!F126=\"\",\"\",endg.Anm!F126)","v":""},{"$f":"IF(endg.Anm!G126=\"\",\"\",endg.Anm!G126)","v":""},{"$f":"IF(H119=\"B\",\"\",IF(endg.Anm!H126=\"\",\"\",endg.Anm!H126))","v":""},{"$f":"IF(endg.Anm!I126=\"\",\"\",endg.Anm!I126)","v":""},{"$f":"IF(endg.Anm!J126=\"\",\"\",endg.Anm!J126)","v":""}]
[{"$f":"IF(endg.Anm!B127=\"\",\"\",endg.Anm!$G$5)","v":""},{"$f":"IF(endg.Anm!B127=\"\",\"\",endg.Anm!$C$5)","v":""},{"$f":"IF(endg.Anm!B127=\"\",\"\",endg.Anm!B127)","v":""},{"$f":"IF(endg.Anm!C127=\"\",\"\",endg.Anm!C127)","v":""},{"$f":"IF(endg.Anm!D127=\"\",\"\",endg.Anm!D127)","v":""},{"$f":"IF(endg.Anm!E127=\"\",\"\",endg.Anm!E127)","v":""},{"$f":"IF(endg.Anm!F127=\"\",\"\",endg.Anm!F127)","v":""},{"$f":"IF(endg.Anm!G127=\"\",\"\",endg.Anm!G127)","v":""},{"$f":"IF(H120=\"B\",\"\",IF(endg.Anm!H127=\"\",\"\",endg.Anm!H127))","v":""},{"$f":"IF(endg.Anm!I127=\"\",\"\",endg.Anm!I127)","v":""},{"$f":"IF(endg.Anm!J127=\"\",\"\",endg.Anm!J127)","v":""}]
[{"$f":"IF(endg.Anm!B128=\"\",\"\",endg.Anm!$G$5)","v":""},{"$f":"IF(endg.Anm!B128=\"\",\"\",endg.Anm!$C$5)","v":""},{"$f":"IF(endg.Anm!B128=\"\",\"\",endg.Anm!B128)","v":""},{"$f":"IF(endg.Anm!C128=\"\",\"\",endg.Anm!C128)","v":""},{"$f":"IF(endg.Anm!D128=\"\",\"\",endg.Anm!D128)","v":""},{"$f":"IF(endg.Anm!E128=\"\",\"\",endg.Anm!E128)","v":""},{"$f":"IF(endg.Anm!F128=\"\",\"\",endg.Anm!F128)","v":""},{"$f":"IF(endg.Anm!G128=\"\",\"\",endg.Anm!G128)","v":""},{"$f":"IF(H121=\"B\",\"\",IF(endg.Anm!H128=\"\",\"\",endg.Anm!H128))","v":""},{"$f":"IF(endg.Anm!I128=\"\",\"\",endg.Anm!I128)","v":""},{"$f":"IF(endg.Anm!J128=\"\",\"\",endg.Anm!J128)","v":""}]
[{"$f":"IF(endg.Anm!B129=\"\",\"\",endg.Anm!$G$5)","v":""},{"$f":"IF(endg.Anm!B129=\"\",\"\",endg.Anm!$C$5)","v":""},{"$f":"IF(endg.Anm!B129=\"\",\"\",endg.Anm!B129)","v":""},{"$f":"IF(endg.Anm!C129=\"\",\"\",endg.Anm!C129)","v":""},{"$f":"IF(endg.Anm!D129=\"\",\"\",endg.Anm!D129)","v":""},{"$f":"IF(endg.Anm!E129=\"\",\"\",endg.Anm!E129)","v":""},{"$f":"IF(endg.Anm!F129=\"\",\"\",endg.Anm!F129)","v":""},{"$f":"IF(endg.Anm!G129=\"\",\"\",endg.Anm!G129)","v":""},{"$f":"IF(H122=\"B\",\"\",IF(endg.Anm!H129=\"\",\"\",endg.Anm!H129))","v":""},{"$f":"IF(endg.Anm!I129=\"\",\"\",endg.Anm!I129)","v":""},{"$f":"IF(endg.Anm!J129=\"\",\"\",endg.Anm!J129)","v":""}]
[{"$f":"IF(endg.Anm!B130=\"\",\"\",endg.Anm!$G$5)","v":""},{"$f":"IF(endg.Anm!B130=\"\",\"\",endg.Anm!$C$5)","v":""},{"$f":"IF(endg.Anm!B130=\"\",\"\",endg.Anm!B130)","v":""},{"$f":"IF(endg.Anm!C130=\"\",\"\",endg.Anm!C130)","v":""},{"$f":"IF(endg.Anm!D130=\"\",\"\",endg.Anm!D130)","v":""},{"$f":"IF(endg.Anm!E130=\"\",\"\",endg.Anm!E130)","v":""},{"$f":"IF(endg.Anm!F130=\"\",\"\",endg.Anm!F130)","v":""},{"$f":"IF(endg.Anm!G130=\"\",\"\",endg.Anm!G130)","v":""},{"$f":"IF(H123=\"B\",\"\",IF(endg.Anm!H130=\"\",\"\",endg.Anm!H130))","v":""},{"$f":"IF(endg.Anm!I130=\"\",\"\",endg.Anm!I130)","v":""},{"$f":"IF(endg.Anm!J130=\"\",\"\",endg.Anm!J130)","v":""}]
[{"$f":"IF(endg.Anm!B131=\"\",\"\",endg.Anm!$G$5)","v":""},{"$f":"IF(endg.Anm!B131=\"\",\"\",endg.Anm!$C$5)","v":""},{"$f":"IF(endg.Anm!B131=\"\",\"\",endg.Anm!B131)","v":""},{"$f":"IF(endg.Anm!C131=\"\",\"\",endg.Anm!C131)","v":""},{"$f":"IF(endg.Anm!D131=\"\",\"\",endg.Anm!D131)","v":""},{"$f":"IF(endg.Anm!E131=\"\",\"\",endg.Anm!E131)","v":""},{"$f":"IF(endg.Anm!F131=\"\",\"\",endg.Anm!F131)","v":""},{"$f":"IF(endg.Anm!G131=\"\",\"\",endg.Anm!G131)","v":""},{"$f":"IF(H124=\"B\",\"\",IF(endg.Anm!H131=\"\",\"\",endg.Anm!H131))","v":""},{"$f":"IF(endg.Anm!I131=\"\",\"\",endg.Anm!I131)","v":""},{"$f":"IF(endg.Anm!J131=\"\",\"\",endg.Anm!J131)","v":""}]
[{"$f":"IF(endg.Anm!B132=\"\",\"\",endg.Anm!$G$5)","v":""},{"$f":"IF(endg.Anm!B132=\"\",\"\",endg.Anm!$C$5)","v":""},{"$f":"IF(endg.Anm!B132=\"\",\"\",endg.Anm!B132)","v":""},{"$f":"IF(endg.Anm!C132=\"\",\"\",endg.Anm!C132)","v":""},{"$f":"IF(endg.Anm!D132=\"\",\"\",endg.Anm!D132)","v":""},{"$f":"IF(endg.Anm!E132=\"\",\"\",endg.Anm!E132)","v":""},{"$f":"IF(endg.Anm!F132=\"\",\"\",endg.Anm!F132)","v":""},{"$f":"IF(endg.Anm!G132=\"\",\"\",endg.Anm!G132)","v":""},{"$f":"IF(H125=\"B\",\"\",IF(endg.Anm!H132=\"\",\"\",endg.Anm!H132))","v":""},{"$f":"IF(endg.Anm!I132=\"\",\"\",endg.Anm!I132)","v":""},{"$f":"IF(endg.Anm!J132=\"\",\"\",endg.Anm!J132)","v":""}]
[{"$f":"IF(endg.Anm!B133=\"\",\"\",endg.Anm!$G$5)","v":""},{"$f":"IF(endg.Anm!B133=\"\",\"\",endg.Anm!$C$5)","v":""},{"$f":"IF(endg.Anm!B133=\"\",\"\",endg.Anm!B133)","v":""},{"$f":"IF(endg.Anm!C133=\"\",\"\",endg.Anm!C133)","v":""},{"$f":"IF(endg.Anm!D133=\"\",\"\",endg.Anm!D133)","v":""},{"$f":"IF(endg.Anm!E133=\"\",\"\",endg.Anm!E133)","v":""},{"$f":"IF(endg.Anm!F133=\"\",\"\",endg.Anm!F133)","v":""},{"$f":"IF(endg.Anm!G133=\"\",\"\",endg.Anm!G133)","v":""},{"$f":"IF(H126=\"B\",\"\",IF(endg.Anm!H133=\"\",\"\",endg.Anm!H133))","v":""},{"$f":"IF(endg.Anm!I133=\"\",\"\",endg.Anm!I133)","v":""},{"$f":"IF(endg.Anm!J133=\"\",\"\",endg.Anm!J133)","v":""}]
[{"$f":"IF(endg.Anm!B134=\"\",\"\",endg.Anm!$G$5)","v":""},{"$f":"IF(endg.Anm!B134=\"\",\"\",endg.Anm!$C$5)","v":""},{"$f":"IF(endg.Anm!B134=\"\",\"\",endg.Anm!B134)","v":""},{"$f":"IF(endg.Anm!C134=\"\",\"\",endg.Anm!C134)","v":""},{"$f":"IF(endg.Anm!D134=\"\",\"\",endg.Anm!D134)","v":""},{"$f":"IF(endg.Anm!E134=\"\",\"\",endg.Anm!E134)","v":""},{"$f":"IF(endg.Anm!F134=\"\",\"\",endg.Anm!F134)","v":""},{"$f":"IF(endg.Anm!G134=\"\",\"\",endg.Anm!G134)","v":""},{"$f":"IF(H127=\"B\",\"\",IF(endg.Anm!H134=\"\",\"\",endg.Anm!H134))","v":""},{"$f":"IF(endg.Anm!I134=\"\",\"\",endg.Anm!I134)","v":""},{"$f":"IF(endg.Anm!J134=\"\",\"\",endg.Anm!J134)","v":""}]
[{"$f":"IF(endg.Anm!B135=\"\",\"\",endg.Anm!$G$5)","v":""},{"$f":"IF(endg.Anm!B135=\"\",\"\",endg.Anm!$C$5)","v":""},{"$f":"IF(endg.Anm!B135=\"\",\"\",endg.Anm!B135)","v":""},{"$f":"IF(endg.Anm!C135=\"\",\"\",endg.Anm!C135)","v":""},{"$f":"IF(endg.Anm!D135=\"\",\"\",endg.Anm!D135)","v":""},{"$f":"IF(endg.Anm!E135=\"\",\"\",endg.Anm!E135)","v":""},{"$f":"IF(endg.Anm!F135=\"\",\"\",endg.Anm!F135)","v":""},{"$f":"IF(endg.Anm!G135=\"\",\"\",endg.Anm!G135)","v":""},{"$f":"IF(H128=\"B\",\"\",IF(endg.Anm!H135=\"\",\"\",endg.Anm!H135))","v":""},{"$f":"IF(endg.Anm!I135=\"\",\"\",endg.Anm!I135)","v":""},{"$f":"IF(endg.Anm!J135=\"\",\"\",endg.Anm!J135)","v":""}]
[{"$f":"IF(endg.Anm!B136=\"\",\"\",endg.Anm!$G$5)","v":""},{"$f":"IF(endg.Anm!B136=\"\",\"\",endg.Anm!$C$5)","v":""},{"$f":"IF(endg.Anm!B136=\"\",\"\",endg.Anm!B136)","v":""},{"$f":"IF(endg.Anm!C136=\"\",\"\",endg.Anm!C136)","v":""},{"$f":"IF(endg.Anm!D136=\"\",\"\",endg.Anm!D136)","v":""},{"$f":"IF(endg.Anm!E136=\"\",\"\",endg.Anm!E136)","v":""},{"$f":"IF(endg.Anm!F136=\"\",\"\",endg.Anm!F136)","v":""},{"$f":"IF(endg.Anm!G136=\"\",\"\",endg.Anm!G136)","v":""},{"$f":"IF(H129=\"B\",\"\",IF(endg.Anm!H136=\"\",\"\",endg.Anm!H136))","v":""},{"$f":"IF(endg.Anm!I136=\"\",\"\",endg.Anm!I136)","v":""},{"$f":"IF(endg.Anm!J136=\"\",\"\",endg.Anm!J136)","v":""}]
[{"$f":"IF(endg.Anm!B137=\"\",\"\",endg.Anm!$G$5)","v":""},{"$f":"IF(endg.Anm!B137=\"\",\"\",endg.Anm!$C$5)","v":""},{"$f":"IF(endg.Anm!B137=\"\",\"\",endg.Anm!B137)","v":""},{"$f":"IF(endg.Anm!C137=\"\",\"\",endg.Anm!C137)","v":""},{"$f":"IF(endg.Anm!D137=\"\",\"\",endg.Anm!D137)","v":""},{"$f":"IF(endg.Anm!E137=\"\",\"\",endg.Anm!E137)","v":""},{"$f":"IF(endg.Anm!F137=\"\",\"\",endg.Anm!F137)","v":""},{"$f":"IF(endg.Anm!G137=\"\",\"\",endg.Anm!G137)","v":""},{"$f":"IF(H130=\"B\",\"\",IF(endg.Anm!H137=\"\",\"\",endg.Anm!H137))","v":""},{"$f":"IF(endg.Anm!I137=\"\",\"\",endg.Anm!I137)","v":""},{"$f":"IF(endg.Anm!J137=\"\",\"\",endg.Anm!J137)","v":""}]
[{"$f":"IF(endg.Anm!B138=\"\",\"\",endg.Anm!$G$5)","v":""},{"$f":"IF(endg.Anm!B138=\"\",\"\",endg.Anm!$C$5)","v":""},{"$f":"IF(endg.Anm!B138=\"\",\"\",endg.Anm!B138)","v":""},{"$f":"IF(endg.Anm!C138=\"\",\"\",endg.Anm!C138)","v":""},{"$f":"IF(endg.Anm!D138=\"\",\"\",endg.Anm!D138)","v":""},{"$f":"IF(endg.Anm!E138=\"\",\"\",endg.Anm!E138)","v":""},{"$f":"IF(endg.Anm!F138=\"\",\"\",endg.Anm!F138)","v":""},{"$f":"IF(endg.Anm!G138=\"\",\"\",endg.Anm!G138)","v":""},{"$f":"IF(H131=\"B\",\"\",IF(endg.Anm!H138=\"\",\"\",endg.Anm!H138))","v":""},{"$f":"IF(endg.Anm!I138=\"\",\"\",endg.Anm!I138)","v":""},{"$f":"IF(endg.Anm!J138=\"\",\"\",endg.Anm!J138)","v":""}]
[{"$f":"IF(endg.Anm!B139=\"\",\"\",endg.Anm!$G$5)","v":""},{"$f":"IF(endg.Anm!B139=\"\",\"\",endg.Anm!$C$5)","v":""},{"$f":"IF(endg.Anm!B139=\"\",\"\",endg.Anm!B139)","v":""},{"$f":"IF(endg.Anm!C139=\"\",\"\",endg.Anm!C139)","v":""},{"$f":"IF(endg.Anm!D139=\"\",\"\",endg.Anm!D139)","v":""},{"$f":"IF(endg.Anm!E139=\"\",\"\",endg.Anm!E139)","v":""},{"$f":"IF(endg.Anm!F139=\"\",\"\",endg.Anm!F139)","v":""},{"$f":"IF(endg.Anm!G139=\"\",\"\",endg.Anm!G139)","v":""},{"$f":"IF(H132=\"B\",\"\",IF(endg.Anm!H139=\"\",\"\",endg.Anm!H139))","v":""},{"$f":"IF(endg.Anm!I139=\"\",\"\",endg.Anm!I139)","v":""},{"$f":"IF(endg.Anm!J139=\"\",\"\",endg.Anm!J139)","v":""}]
[{"$f":"IF(endg.Anm!B140=\"\",\"\",endg.Anm!$G$5)","v":""},{"$f":"IF(endg.Anm!B140=\"\",\"\",endg.Anm!$C$5)","v":""},{"$f":"IF(endg.Anm!B140=\"\",\"\",endg.Anm!B140)","v":""},{"$f":"IF(endg.Anm!C140=\"\",\"\",endg.Anm!C140)","v":""},{"$f":"IF(endg.Anm!D140=\"\",\"\",endg.Anm!D140)","v":""},{"$f":"IF(endg.Anm!E140=\"\",\"\",endg.Anm!E140)","v":""},{"$f":"IF(endg.Anm!F140=\"\",\"\",endg.Anm!F140)","v":""},{"$f":"IF(endg.Anm!G140=\"\",\"\",endg.Anm!G140)","v":""},{"$f":"IF(H133=\"B\",\"\",IF(endg.Anm!H140=\"\",\"\",endg.Anm!H140))","v":""},{"$f":"IF(endg.Anm!I140=\"\",\"\",endg.Anm!I140)","v":""},{"$f":"IF(endg.Anm!J140=\"\",\"\",endg.Anm!J140)","v":""}]
[{"$f":"IF(endg.Anm!B141=\"\",\"\",endg.Anm!$G$5)","v":""},{"$f":"IF(endg.Anm!B141=\"\",\"\",endg.Anm!$C$5)","v":""},{"$f":"IF(endg.Anm!B141=\"\",\"\",endg.Anm!B141)","v":""},{"$f":"IF(endg.Anm!C141=\"\",\"\",endg.Anm!C141)","v":""},{"$f":"IF(endg.Anm!D141=\"\",\"\",endg.Anm!D141)","v":""},{"$f":"IF(endg.Anm!E141=\"\",\"\",endg.Anm!E141)","v":""},{"$f":"IF(endg.Anm!F141=\"\",\"\",endg.Anm!F141)","v":""},{"$f":"IF(endg.Anm!G141=\"\",\"\",endg.Anm!G141)","v":""},{"$f":"IF(H134=\"B\",\"\",IF(endg.Anm!H141=\"\",\"\",endg.Anm!H141))","v":""},{"$f":"IF(endg.Anm!I141=\"\",\"\",endg.Anm!I141)","v":""},{"$f":"IF(endg.Anm!J141=\"\",\"\",endg.Anm!J141)","v":""}]
[{"$f":"IF(endg.Anm!B142=\"\",\"\",endg.Anm!$G$5)","v":""},{"$f":"IF(endg.Anm!B142=\"\",\"\",endg.Anm!$C$5)","v":""},{"$f":"IF(endg.Anm!B142=\"\",\"\",endg.Anm!B142)","v":""},{"$f":"IF(endg.Anm!C142=\"\",\"\",endg.Anm!C142)","v":""},{"$f":"IF(endg.Anm!D142=\"\",\"\",endg.Anm!D142)","v":""},{"$f":"IF(endg.Anm!E142=\"\",\"\",endg.Anm!E142)","v":""},{"$f":"IF(endg.Anm!F142=\"\",\"\",endg.Anm!F142)","v":""},{"$f":"IF(endg.Anm!G142=\"\",\"\",endg.Anm!G142)","v":""},{"$f":"IF(H135=\"B\",\"\",IF(endg.Anm!H142=\"\",\"\",endg.Anm!H142))","v":""},{"$f":"IF(endg.Anm!I142=\"\",\"\",endg.Anm!I142)","v":""},{"$f":"IF(endg.Anm!J142=\"\",\"\",endg.Anm!J142)","v":""}]
[{"$f":"IF(endg.Anm!B143=\"\",\"\",endg.Anm!$G$5)","v":""},{"$f":"IF(endg.Anm!B143=\"\",\"\",endg.Anm!$C$5)","v":""},{"$f":"IF(endg.Anm!B143=\"\",\"\",endg.Anm!B143)","v":""},{"$f":"IF(endg.Anm!C143=\"\",\"\",endg.Anm!C143)","v":""},{"$f":"IF(endg.Anm!D143=\"\",\"\",endg.Anm!D143)","v":""},{"$f":"IF(endg.Anm!E143=\"\",\"\",endg.Anm!E143)","v":""},{"$f":"IF(endg.Anm!F143=\"\",\"\",endg.Anm!F143)","v":""},{"$f":"IF(endg.Anm!G143=\"\",\"\",endg.Anm!G143)","v":""},{"$f":"IF(H136=\"B\",\"\",IF(endg.Anm!H143=\"\",\"\",endg.Anm!H143))","v":""},{"$f":"IF(endg.Anm!I143=\"\",\"\",endg.Anm!I143)","v":""},{"$f":"IF(endg.Anm!J143=\"\",\"\",endg.Anm!J143)","v":""}]
[{"$f":"IF(endg.Anm!B144=\"\",\"\",endg.Anm!$G$5)","v":""},{"$f":"IF(endg.Anm!B144=\"\",\"\",endg.Anm!$C$5)","v":""},{"$f":"IF(endg.Anm!B144=\"\",\"\",endg.Anm!B144)","v":""},{"$f":"IF(endg.Anm!C144=\"\",\"\",endg.Anm!C144)","v":""},{"$f":"IF(endg.Anm!D144=\"\",\"\",endg.Anm!D144)","v":""},{"$f":"IF(endg.Anm!E144=\"\",\"\",endg.Anm!E144)","v":""},{"$f":"IF(endg.Anm!F144=\"\",\"\",endg.Anm!F144)","v":""},{"$f":"IF(endg.Anm!G144=\"\",\"\",endg.Anm!G144)","v":""},{"$f":"IF(H137=\"B\",\"\",IF(endg.Anm!H144=\"\",\"\",endg.Anm!H144))","v":""},{"$f":"IF(endg.Anm!I144=\"\",\"\",endg.Anm!I144)","v":""},{"$f":"IF(endg.Anm!J144=\"\",\"\",endg.Anm!J144)","v":""}]
[{"$f":"IF(endg.Anm!B145=\"\",\"\",endg.Anm!$G$5)","v":""},{"$f":"IF(endg.Anm!B145=\"\",\"\",endg.Anm!$C$5)","v":""},{"$f":"IF(endg.Anm!B145=\"\",\"\",endg.Anm!B145)","v":""},{"$f":"IF(endg.Anm!C145=\"\",\"\",endg.Anm!C145)","v":""},{"$f":"IF(endg.Anm!D145=\"\",\"\",endg.Anm!D145)","v":""},{"$f":"IF(endg.Anm!E145=\"\",\"\",endg.Anm!E145)","v":""},{"$f":"IF(endg.Anm!F145=\"\",\"\",endg.Anm!F145)","v":""},{"$f":"IF(endg.Anm!G145=\"\",\"\",endg.Anm!G145)","v":""},{"$f":"IF(H138=\"B\",\"\",IF(endg.Anm!H145=\"\",\"\",endg.Anm!H145))","v":""},{"$f":"IF(endg.Anm!I145=\"\",\"\",endg.Anm!I145)","v":""},{"$f":"IF(endg.Anm!J145=\"\",\"\",endg.Anm!J145)","v":""}]
[{"$f":"IF(endg.Anm!B146=\"\",\"\",endg.Anm!$G$5)","v":""},{"$f":"IF(endg.Anm!B146=\"\",\"\",endg.Anm!$C$5)","v":""},{"$f":"IF(endg.Anm!B146=\"\",\"\",endg.Anm!B146)","v":""},{"$f":"IF(endg.Anm!C146=\"\",\"\",endg.Anm!C146)","v":""},{"$f":"IF(endg.Anm!D146=\"\",\"\",endg.Anm!D146)","v":""},{"$f":"IF(endg.Anm!E146=\"\",\"\",endg.Anm!E146)","v":""},{"$f":"IF(endg.Anm!F146=\"\",\"\",endg.Anm!F146)","v":""},{"$f":"IF(endg.Anm!G146=\"\",\"\",endg.Anm!G146)","v":""},{"$f":"IF(H139=\"B\",\"\",IF(endg.Anm!H146=\"\",\"\",endg.Anm!H146))","v":""},{"$f":"IF(endg.Anm!I146=\"\",\"\",endg.Anm!I146)","v":""},{"$f":"IF(endg.Anm!J146=\"\",\"\",endg.Anm!J146)","v":""}]
[{"$f":"IF(endg.Anm!B147=\"\",\"\",endg.Anm!$G$5)","v":""},{"$f":"IF(endg.Anm!B147=\"\",\"\",endg.Anm!$C$5)","v":""},{"$f":"IF(endg.Anm!B147=\"\",\"\",endg.Anm!B147)","v":""},{"$f":"IF(endg.Anm!C147=\"\",\"\",endg.Anm!C147)","v":""},{"$f":"IF(endg.Anm!D147=\"\",\"\",endg.Anm!D147)","v":""},{"$f":"IF(endg.Anm!E147=\"\",\"\",endg.Anm!E147)","v":""},{"$f":"IF(endg.Anm!F147=\"\",\"\",endg.Anm!F147)","v":""},{"$f":"IF(endg.Anm!G147=\"\",\"\",endg.Anm!G147)","v":""},{"$f":"IF(H140=\"B\",\"\",IF(endg.Anm!H147=\"\",\"\",endg.Anm!H147))","v":""},{"$f":"IF(endg.Anm!I147=\"\",\"\",endg.Anm!I147)","v":""},{"$f":"IF(endg.Anm!J147=\"\",\"\",endg.Anm!J147)","v":""}]
[{"$f":"IF(endg.Anm!B148=\"\",\"\",endg.Anm!$G$5)","v":""},{"$f":"IF(endg.Anm!B148=\"\",\"\",endg.Anm!$C$5)","v":""},{"$f":"IF(endg.Anm!B148=\"\",\"\",endg.Anm!B148)","v":""},{"$f":"IF(endg.Anm!C148=\"\",\"\",endg.Anm!C148)","v":""},{"$f":"IF(endg.Anm!D148=\"\",\"\",endg.Anm!D148)","v":""},{"$f":"IF(endg.Anm!E148=\"\",\"\",endg.Anm!E148)","v":""},{"$f":"IF(endg.Anm!F148=\"\",\"\",endg.Anm!F148)","v":""},{"$f":"IF(endg.Anm!G148=\"\",\"\",endg.Anm!G148)","v":""},{"$f":"IF(H141=\"B\",\"\",IF(endg.Anm!H148=\"\",\"\",endg.Anm!H148))","v":""},{"$f":"IF(endg.Anm!I148=\"\",\"\",endg.Anm!I148)","v":""},{"$f":"IF(endg.Anm!J148=\"\",\"\",endg.Anm!J148)","v":""}]
[{"$f":"IF(endg.Anm!B149=\"\",\"\",endg.Anm!$G$5)","v":""},{"$f":"IF(endg.Anm!B149=\"\",\"\",endg.Anm!$C$5)","v":""},{"$f":"IF(endg.Anm!B149=\"\",\"\",endg.Anm!B149)","v":""},{"$f":"IF(endg.Anm!C149=\"\",\"\",endg.Anm!C149)","v":""},{"$f":"IF(endg.Anm!D149=\"\",\"\",endg.Anm!D149)","v":""},{"$f":"IF(endg.Anm!E149=\"\",\"\",endg.Anm!E149)","v":""},{"$f":"IF(endg.Anm!F149=\"\",\"\",endg.Anm!F149)","v":""},{"$f":"IF(endg.Anm!G149=\"\",\"\",endg.Anm!G149)","v":""},{"$f":"IF(H142=\"B\",\"\",IF(endg.Anm!H149=\"\",\"\",endg.Anm!H149))","v":""},{"$f":"IF(endg.Anm!I149=\"\",\"\",endg.Anm!I149)","v":""},{"$f":"IF(endg.Anm!J149=\"\",\"\",endg.Anm!J149)","v":""}]
[{"$f":"IF(endg.Anm!B150=\"\",\"\",endg.Anm!$G$5)","v":""},{"$f":"IF(endg.Anm!B150=\"\",\"\",endg.Anm!$C$5)","v":""},{"$f":"IF(endg.Anm!B150=\"\",\"\",endg.Anm!B150)","v":""},{"$f":"IF(endg.Anm!C150=\"\",\"\",endg.Anm!C150)","v":""},{"$f":"IF(endg.Anm!D150=\"\",\"\",endg.Anm!D150)","v":""},{"$f":"IF(endg.Anm!E150=\"\",\"\",endg.Anm!E150)","v":""},{"$f":"IF(endg.Anm!F150=\"\",\"\",endg.Anm!F150)","v":""},{"$f":"IF(endg.Anm!G150=\"\",\"\",endg.Anm!G150)","v":""},{"$f":"IF(H143=\"B\",\"\",IF(endg.Anm!H150=\"\",\"\",endg.Anm!H150))","v":""},{"$f":"IF(endg.Anm!I150=\"\",\"\",endg.Anm!I150)","v":""},{"$f":"IF(endg.Anm!J150=\"\",\"\",endg.Anm!J150)","v":""}]
[{"$f":"IF(endg.Anm!B151=\"\",\"\",endg.Anm!$G$5)","v":""},{"$f":"IF(endg.Anm!B151=\"\",\"\",endg.Anm!$C$5)","v":""},{"$f":"IF(endg.Anm!B151=\"\",\"\",endg.Anm!B151)","v":""},{"$f":"IF(endg.Anm!C151=\"\",\"\",endg.Anm!C151)","v":""},{"$f":"IF(endg.Anm!D151=\"\",\"\",endg.Anm!D151)","v":""},{"$f":"IF(endg.Anm!E151=\"\",\"\",endg.Anm!E151)","v":""},{"$f":"IF(endg.Anm!F151=\"\",\"\",endg.Anm!F151)","v":""},{"$f":"IF(endg.Anm!G151=\"\",\"\",endg.Anm!G151)","v":""},{"$f":"IF(H144=\"B\",\"\",IF(endg.Anm!H151=\"\",\"\",endg.Anm!H151))","v":""},{"$f":"IF(endg.Anm!I151=\"\",\"\",endg.Anm!I151)","v":""},{"$f":"IF(endg.Anm!J151=\"\",\"\",endg.Anm!J151)","v":""}]
[{"$f":"IF(endg.Anm!B152=\"\",\"\",endg.Anm!$G$5)","v":""},{"$f":"IF(endg.Anm!B152=\"\",\"\",endg.Anm!$C$5)","v":""},{"$f":"IF(endg.Anm!B152=\"\",\"\",endg.Anm!B152)","v":""},{"$f":"IF(endg.Anm!C152=\"\",\"\",endg.Anm!C152)","v":""},{"$f":"IF(endg.Anm!D152=\"\",\"\",endg.Anm!D152)","v":""},{"$f":"IF(endg.Anm!E152=\"\",\"\",endg.Anm!E152)","v":""},{"$f":"IF(endg.Anm!F152=\"\",\"\",endg.Anm!F152)","v":""},{"$f":"IF(endg.Anm!G152=\"\",\"\",endg.Anm!G152)","v":""},{"$f":"IF(H145=\"B\",\"\",IF(endg.Anm!H152=\"\",\"\",endg.Anm!H152))","v":""},{"$f":"IF(endg.Anm!I152=\"\",\"\",endg.Anm!I152)","v":""},{"$f":"IF(endg.Anm!J152=\"\",\"\",endg.Anm!J152)","v":""}]
[{"$f":"IF(endg.Anm!B153=\"\",\"\",endg.Anm!$G$5)","v":""},{"$f":"IF(endg.Anm!B153=\"\",\"\",endg.Anm!$C$5)","v":""},{"$f":"IF(endg.Anm!B153=\"\",\"\",endg.Anm!B153)","v":""},{"$f":"IF(endg.Anm!C153=\"\",\"\",endg.Anm!C153)","v":""},{"$f":"IF(endg.Anm!D153=\"\",\"\",endg.Anm!D153)","v":""},{"$f":"IF(endg.Anm!E153=\"\",\"\",endg.Anm!E153)","v":""},{"$f":"IF(endg.Anm!F153=\"\",\"\",endg.Anm!F153)","v":""},{"$f":"IF(endg.Anm!G153=\"\",\"\",endg.Anm!G153)","v":""},{"$f":"IF(H146=\"B\",\"\",IF(endg.Anm!H153=\"\",\"\",endg.Anm!H153))","v":""},{"$f":"IF(endg.Anm!I153=\"\",\"\",endg.Anm!I153)","v":""},{"$f":"IF(endg.Anm!J153=\"\",\"\",endg.Anm!J153)","v":""}]
[{"$f":"IF(endg.Anm!B154=\"\",\"\",endg.Anm!$G$5)","v":""},{"$f":"IF(endg.Anm!B154=\"\",\"\",endg.Anm!$C$5)","v":""},{"$f":"IF(endg.Anm!B154=\"\",\"\",endg.Anm!B154)","v":""},{"$f":"IF(endg.Anm!C154=\"\",\"\",endg.Anm!C154)","v":""},{"$f":"IF(endg.Anm!D154=\"\",\"\",endg.Anm!D154)","v":""},{"$f":"IF(endg.Anm!E154=\"\",\"\",endg.Anm!E154)","v":""},{"$f":"IF(endg.Anm!F154=\"\",\"\",endg.Anm!F154)","v":""},{"$f":"IF(endg.Anm!G154=\"\",\"\",endg.Anm!G154)","v":""},{"$f":"IF(H147=\"B\",\"\",IF(endg.Anm!H154=\"\",\"\",endg.Anm!H154))","v":""},{"$f":"IF(endg.Anm!I154=\"\",\"\",endg.Anm!I154)","v":""},{"$f":"IF(endg.Anm!J154=\"\",\"\",endg.Anm!J154)","v":""}]
[{"$f":"IF(endg.Anm!B155=\"\",\"\",endg.Anm!$G$5)","v":""},{"$f":"IF(endg.Anm!B155=\"\",\"\",endg.Anm!$C$5)","v":""},{"$f":"IF(endg.Anm!B155=\"\",\"\",endg.Anm!B155)","v":""},{"$f":"IF(endg.Anm!C155=\"\",\"\",endg.Anm!C155)","v":""},{"$f":"IF(endg.Anm!D155=\"\",\"\",endg.Anm!D155)","v":""},{"$f":"IF(endg.Anm!E155=\"\",\"\",endg.Anm!E155)","v":""},{"$f":"IF(endg.Anm!F155=\"\",\"\",endg.Anm!F155)","v":""},{"$f":"IF(endg.Anm!G155=\"\",\"\",endg.Anm!G155)","v":""},{"$f":"IF(H148=\"B\",\"\",IF(endg.Anm!H155=\"\",\"\",endg.Anm!H155))","v":""},{"$f":"IF(endg.Anm!I155=\"\",\"\",endg.Anm!I155)","v":""},{"$f":"IF(endg.Anm!J155=\"\",\"\",endg.Anm!J155)","v":""}]
[{"$f":"IF(endg.Anm!B156=\"\",\"\",endg.Anm!$G$5)","v":""},{"$f":"IF(endg.Anm!B156=\"\",\"\",endg.Anm!$C$5)","v":""},{"$f":"IF(endg.Anm!B156=\"\",\"\",endg.Anm!B156)","v":""},{"$f":"IF(endg.Anm!C156=\"\",\"\",endg.Anm!C156)","v":""},{"$f":"IF(endg.Anm!D156=\"\",\"\",endg.Anm!D156)","v":""},{"$f":"IF(endg.Anm!E156=\"\",\"\",endg.Anm!E156)","v":""},{"$f":"IF(endg.Anm!F156=\"\",\"\",endg.Anm!F156)","v":""},{"$f":"IF(endg.Anm!G156=\"\",\"\",endg.Anm!G156)","v":""},{"$f":"IF(H149=\"B\",\"\",IF(endg.Anm!H156=\"\",\"\",endg.Anm!H156))","v":""},{"$f":"IF(endg.Anm!I156=\"\",\"\",endg.Anm!I156)","v":""},{"$f":"IF(endg.Anm!J156=\"\",\"\",endg.Anm!J156)","v":""}]
[{"$f":"IF(endg.Anm!B157=\"\",\"\",endg.Anm!$G$5)","v":""},{"$f":"IF(endg.Anm!B157=\"\",\"\",endg.Anm!$C$5)","v":""},{"$f":"IF(endg.Anm!B157=\"\",\"\",endg.Anm!B157)","v":""},{"$f":"IF(endg.Anm!C157=\"\",\"\",endg.Anm!C157)","v":""},{"$f":"IF(endg.Anm!D157=\"\",\"\",endg.Anm!D157)","v":""},{"$f":"IF(endg.Anm!E157=\"\",\"\",endg.Anm!E157)","v":""},{"$f":"IF(endg.Anm!F157=\"\",\"\",endg.Anm!F157)","v":""},{"$f":"IF(endg.Anm!G157=\"\",\"\",endg.Anm!G157)","v":""},{"$f":"IF(H150=\"B\",\"\",IF(endg.Anm!H157=\"\",\"\",endg.Anm!H157))","v":""},{"$f":"IF(endg.Anm!I157=\"\",\"\",endg.Anm!I157)","v":""},{"$f":"IF(endg.Anm!J157=\"\",\"\",endg.Anm!J157)","v":""}]